BEGIN:VCALENDAR
VERSION:2.0
PRODID:-//Surf Life Saving NSW - ECPv6.15.20//NONSGML v1.0//EN
CALSCALE:GREGORIAN
METHOD:PUBLISH
X-WR-CALNAME:Surf Life Saving NSW
X-ORIGINAL-URL:https://www.surflifesaving.com.au
X-WR-CALDESC:Events for Surf Life Saving NSW
REFRESH-INTERVAL;VALUE=DURATION:PT1H
X-Robots-Tag:noindex
X-PUBLISHED-TTL:PT1H
BEGIN:VTIMEZONE
TZID:Australia/Sydney
BEGIN:STANDARD
TZOFFSETFROM:+1100
TZOFFSETTO:+1000
TZNAME:AEST
DTSTART:20210403T160000
END:STANDARD
BEGIN:DAYLIGHT
TZOFFSETFROM:+1000
TZOFFSETTO:+1100
TZNAME:AEDT
DTSTART:20211002T160000
END:DAYLIGHT
BEGIN:STANDARD
TZOFFSETFROM:+1100
TZOFFSETTO:+1000
TZNAME:AEST
DTSTART:20220402T160000
END:STANDARD
BEGIN:DAYLIGHT
TZOFFSETFROM:+1000
TZOFFSETTO:+1100
TZNAME:AEDT
DTSTART:20221001T160000
END:DAYLIGHT
BEGIN:STANDARD
TZOFFSETFROM:+1100
TZOFFSETTO:+1000
TZNAME:AEST
DTSTART:20230401T160000
END:STANDARD
BEGIN:DAYLIGHT
TZOFFSETFROM:+1000
TZOFFSETTO:+1100
TZNAME:AEDT
DTSTART:20230930T160000
END:DAYLIGHT
END:VTIMEZONE
BEGIN:VEVENT
DTSTART;VALUE=DATE:20220115
DTEND;VALUE=DATE:20220122
DTSTAMP:20260423T200544
CREATED:20211026T034244Z
LAST-MODIFIED:20211123T002804Z
UID:12944-1642204800-1642809599@www.surflifesaving.com.au
SUMMARY:2022 Lifesaving Development Camp
DESCRIPTION:Overview\nSurf Life Saving NSW will again be running its Lifesaving Development Camp for surf lifesavers aged 16-21 years. This is a live-in program\, focusing on developing and enhancing the knowledge and skills of young people\, while at the same time preparing them to take on more responsibility in their patrol teams\, their own clubs\, and the wider community. Members will gain additional awards including First Aid\, ARTC\, IRB Crew/Drivers\, and expand their current knowledge of awards already held. \nMore Information\nFor more information\, please download the Lifesaving Development Camp flyer or contact Laura at lsdevcamp@surflifesaving.com.au
URL:https://www.surflifesaving.com.au/event/2022-lifesaving-development-camp/
LOCATION:Warriewood Surf Life Saving Club\, 100/102 Narrabeen Park Parade\, Warriewood\, NSW\, 2102\, Australia
CATEGORIES:Lifesaving,SLSNSW Event
ORGANIZER;CN="SLSNSW Lifesaving Team":MAILTO:lsdevcamp@surflifesaving.com.au
END:VEVENT
END:VCALENDAR