BEGIN:VCALENDAR
VERSION:2.0
PRODID:-//Surf Life Saving NSW - ECPv6.15.20//NONSGML v1.0//EN
CALSCALE:GREGORIAN
METHOD:PUBLISH
X-WR-CALNAME:Surf Life Saving NSW
X-ORIGINAL-URL:https://www.surflifesaving.com.au
X-WR-CALDESC:Events for Surf Life Saving NSW
REFRESH-INTERVAL;VALUE=DURATION:PT1H
X-Robots-Tag:noindex
X-PUBLISHED-TTL:PT1H
BEGIN:VTIMEZONE
TZID:Australia/Sydney
BEGIN:STANDARD
TZOFFSETFROM:+1100
TZOFFSETTO:+1000
TZNAME:AEST
DTSTART:20210403T160000
END:STANDARD
BEGIN:DAYLIGHT
TZOFFSETFROM:+1000
TZOFFSETTO:+1100
TZNAME:AEDT
DTSTART:20211002T160000
END:DAYLIGHT
BEGIN:STANDARD
TZOFFSETFROM:+1100
TZOFFSETTO:+1000
TZNAME:AEST
DTSTART:20220402T160000
END:STANDARD
BEGIN:DAYLIGHT
TZOFFSETFROM:+1000
TZOFFSETTO:+1100
TZNAME:AEDT
DTSTART:20221001T160000
END:DAYLIGHT
BEGIN:STANDARD
TZOFFSETFROM:+1100
TZOFFSETTO:+1000
TZNAME:AEST
DTSTART:20230401T160000
END:STANDARD
BEGIN:DAYLIGHT
TZOFFSETFROM:+1000
TZOFFSETTO:+1100
TZNAME:AEDT
DTSTART:20230930T160000
END:DAYLIGHT
END:VTIMEZONE
BEGIN:VEVENT
DTSTART;TZID=Australia/Sydney:20220708T080000
DTEND;TZID=Australia/Sydney:20220710T170000
DTSTAMP:20260423T084830
CREATED:20220329T053800Z
LAST-MODIFIED:20220712T223242Z
UID:14597-1657267200-1657472400@www.surflifesaving.com.au
SUMMARY:2022 Sharkskin NSW IRB State Championships
DESCRIPTION:Surf Life Saving NSW is excited to confirm the dates and venues for the 2022 Sharkskin NSW IRB Premiership Series and State Championships. The 2022 Series will see four rounds\, culminating with the State Championships in July. \nRound Information:\nPremiership Round 1: Terrigal SLSC\, 14-15 May 2022\nPremiership Round 2: Bulli SLSC\, 28-29 May 2022\nPremiership Round 3: Broulee Surfers SLSC\, 11-12 June 2022\nPremiership Round 4: Ocean Beach SLSC\, 25-26 June 2022\nState Championships: South West Rocks SLSC\, 8-10 July 2022 \n  \n 
URL:https://www.surflifesaving.com.au/event/2022-sharkskin-nsw-irb-premiership/
LOCATION:South West Rocks Surf Life Saving Club\, 1 Livingstone Street\, South West Rocks\, NSW\, 2431\, Australia
CATEGORIES:IRBs,SLSNSW Event,Sport
ATTACH;FMTTYPE=image/jpeg:https://www.surflifesaving.com.au/wp-content/uploads/sites/2/2022/03/Untitled-design-14.jpg
ORGANIZER;CN="SLSNSW Surf Sports Team":MAILTO:surfsports@surflifesaving.com.au
END:VEVENT
BEGIN:VEVENT
DTSTART;TZID=Australia/Sydney:20220710T000000
DTEND;TZID=Australia/Sydney:20220716T000000
DTSTAMP:20260423T084830
CREATED:20220329T023100Z
LAST-MODIFIED:20220406T063720Z
UID:14594-1657411200-1657929600@www.surflifesaving.com.au
SUMMARY:2022 Lifesaving Development Camp
DESCRIPTION:Overview\nSurf Life Saving NSW is looking for additional candidates for it’s upcoming Lifesaving Development Camp\, July 2022. This is a live-in program\, for surf lifesavers aged 16-21 years\, focusing on developing and enhancing the knowledge and skills of young people\, while at the same time preparing them to take on more responsibility in their patrol teams\, their own clubs\, and the wider community. Members will gain additional awards including First Aid\, ARTC\, IRB Crew/Drivers\, and expand their current knowledge of awards already held. \n  \nMore Information\nApply here if you are interested in attending our Lifesaving Development Camp. \nFor more information\, download the Lifesaving Development Camp Flyer or contact Laura at lsdevcamp@surflifesaving.com.au.
URL:https://www.surflifesaving.com.au/event/2022-lifesaving-development-camp-2/
LOCATION:NRMA Sydney Lakeside Holiday Park\, 38 Lake Park Rd\, North Narrabeen\, NSW\, 2101\, Australia
CATEGORIES:Lifesaving,SLSNSW Event
ATTACH;FMTTYPE=image/png:https://www.surflifesaving.com.au/wp-content/uploads/sites/2/2022/03/MicrosoftTeams-image-28.png
ORGANIZER;CN="SLSNSW Lifesaving Team":MAILTO:lsdevcamp@surflifesaving.com.au
END:VEVENT
END:VCALENDAR