BEGIN:VCALENDAR
VERSION:2.0
PRODID:-//Surf Life Saving NSW - ECPv6.15.20//NONSGML v1.0//EN
CALSCALE:GREGORIAN
METHOD:PUBLISH
X-WR-CALNAME:Surf Life Saving NSW
X-ORIGINAL-URL:https://www.surflifesaving.com.au
X-WR-CALDESC:Events for Surf Life Saving NSW
REFRESH-INTERVAL;VALUE=DURATION:PT1H
X-Robots-Tag:noindex
X-PUBLISHED-TTL:PT1H
BEGIN:VTIMEZONE
TZID:Australia/Sydney
BEGIN:STANDARD
TZOFFSETFROM:+1100
TZOFFSETTO:+1000
TZNAME:AEST
DTSTART:20210403T160000
END:STANDARD
BEGIN:DAYLIGHT
TZOFFSETFROM:+1000
TZOFFSETTO:+1100
TZNAME:AEDT
DTSTART:20211002T160000
END:DAYLIGHT
BEGIN:STANDARD
TZOFFSETFROM:+1100
TZOFFSETTO:+1000
TZNAME:AEST
DTSTART:20220402T160000
END:STANDARD
BEGIN:DAYLIGHT
TZOFFSETFROM:+1000
TZOFFSETTO:+1100
TZNAME:AEDT
DTSTART:20221001T160000
END:DAYLIGHT
BEGIN:STANDARD
TZOFFSETFROM:+1100
TZOFFSETTO:+1000
TZNAME:AEST
DTSTART:20230401T160000
END:STANDARD
BEGIN:DAYLIGHT
TZOFFSETFROM:+1000
TZOFFSETTO:+1100
TZNAME:AEDT
DTSTART:20230930T160000
END:DAYLIGHT
END:VTIMEZONE
BEGIN:VEVENT
DTSTART;VALUE=DATE:20221111
DTEND;VALUE=DATE:20221112
DTSTAMP:20260423T015641
CREATED:20221012T235810Z
LAST-MODIFIED:20221108T023452Z
UID:15755-1668124800-1668211199@www.surflifesaving.com.au
SUMMARY:SLSNSW 2022 Annual General Meeting
DESCRIPTION:Surf Life Saving NSW’s Annual General Meeting will take place on the second Friday of November at the organisation’s Head Office in Belrose. \nMeeting Details\nDate: 11 November 2022 \nTime: 4pm – 6pm \nLocation: SLSNSW Head Office (3 Narabang Way\, Belrose NSW 2085) \nRSVP by Monday\, 7 November 2022\nGreta Simms\n0455 833 135\npa@surflifesaving.com.au \n 
URL:https://www.surflifesaving.com.au/event/slsnsw-2022-annual-general-meeting/
LOCATION:Surf Life Saving NSW Head Office\, 3 Narabang Way\, Belrose\, NSW\, 2085\, Australia
CATEGORIES:SLSNSW Event
END:VEVENT
END:VCALENDAR