BEGIN:VCALENDAR
VERSION:2.0
PRODID:-//Surf Life Saving NSW - ECPv6.15.20//NONSGML v1.0//EN
CALSCALE:GREGORIAN
METHOD:PUBLISH
X-WR-CALNAME:Surf Life Saving NSW
X-ORIGINAL-URL:https://www.surflifesaving.com.au
X-WR-CALDESC:Events for Surf Life Saving NSW
REFRESH-INTERVAL;VALUE=DURATION:PT1H
X-Robots-Tag:noindex
X-PUBLISHED-TTL:PT1H
BEGIN:VTIMEZONE
TZID:Australia/Sydney
BEGIN:STANDARD
TZOFFSETFROM:+1100
TZOFFSETTO:+1000
TZNAME:AEST
DTSTART:20210403T160000
END:STANDARD
BEGIN:DAYLIGHT
TZOFFSETFROM:+1000
TZOFFSETTO:+1100
TZNAME:AEDT
DTSTART:20211002T160000
END:DAYLIGHT
BEGIN:STANDARD
TZOFFSETFROM:+1100
TZOFFSETTO:+1000
TZNAME:AEST
DTSTART:20220402T160000
END:STANDARD
BEGIN:DAYLIGHT
TZOFFSETFROM:+1000
TZOFFSETTO:+1100
TZNAME:AEDT
DTSTART:20221001T160000
END:DAYLIGHT
BEGIN:STANDARD
TZOFFSETFROM:+1100
TZOFFSETTO:+1000
TZNAME:AEST
DTSTART:20230401T160000
END:STANDARD
BEGIN:DAYLIGHT
TZOFFSETFROM:+1000
TZOFFSETTO:+1100
TZNAME:AEDT
DTSTART:20230930T160000
END:DAYLIGHT
END:VTIMEZONE
BEGIN:VEVENT
DTSTART;VALUE=DATE:20221119
DTEND;VALUE=DATE:20221120
DTSTAMP:20260423T015643
CREATED:20221012T030509Z
LAST-MODIFIED:20221108T023653Z
UID:15745-1668816000-1668902399@www.surflifesaving.com.au
SUMMARY:Freshie Masters
DESCRIPTION:Event Overview\n‘Freshie Masters’ is back for its 28th year! The ‘fast program’ carnival focusses on team events and rewards club success\, creating an inclusive competition environment for all Masters. The individual ‘Dash for Cash’ will also be run on the day\, with competitors racing to shore to claim their prize money. \nEvent Details\nDate: 19 November\, 2022 \nLocation: Freshwater SLSC \nAll entries must be completed via SEMS by 30 October\, 2022.
URL:https://www.surflifesaving.com.au/event/freshie-masters/
LOCATION:Freshwater SLSC\, Kooloora Avenue\, Freshwater\, NSW\, 2096\, Australia
CATEGORIES:Club Event,Water Event
ATTACH;FMTTYPE=image/jpeg:https://www.surflifesaving.com.au/wp-content/uploads/sites/2/2022/10/Screenshot-2022-10-12-133816.jpg
END:VEVENT
END:VCALENDAR