BEGIN:VCALENDAR
VERSION:2.0
PRODID:-//Surf Life Saving NSW - ECPv6.15.20//NONSGML v1.0//EN
CALSCALE:GREGORIAN
METHOD:PUBLISH
X-WR-CALNAME:Surf Life Saving NSW
X-ORIGINAL-URL:https://www.surflifesaving.com.au
X-WR-CALDESC:Events for Surf Life Saving NSW
REFRESH-INTERVAL;VALUE=DURATION:PT1H
X-Robots-Tag:noindex
X-PUBLISHED-TTL:PT1H
BEGIN:VTIMEZONE
TZID:Australia/Sydney
BEGIN:STANDARD
TZOFFSETFROM:+1100
TZOFFSETTO:+1000
TZNAME:AEST
DTSTART:20220402T160000
END:STANDARD
BEGIN:DAYLIGHT
TZOFFSETFROM:+1000
TZOFFSETTO:+1100
TZNAME:AEDT
DTSTART:20221001T160000
END:DAYLIGHT
BEGIN:STANDARD
TZOFFSETFROM:+1100
TZOFFSETTO:+1000
TZNAME:AEST
DTSTART:20230401T160000
END:STANDARD
BEGIN:DAYLIGHT
TZOFFSETFROM:+1000
TZOFFSETTO:+1100
TZNAME:AEDT
DTSTART:20230930T160000
END:DAYLIGHT
BEGIN:STANDARD
TZOFFSETFROM:+1100
TZOFFSETTO:+1000
TZNAME:AEST
DTSTART:20240406T160000
END:STANDARD
BEGIN:DAYLIGHT
TZOFFSETFROM:+1000
TZOFFSETTO:+1100
TZNAME:AEDT
DTSTART:20241005T160000
END:DAYLIGHT
END:VTIMEZONE
BEGIN:VEVENT
DTSTART;VALUE=DATE:20230104
DTEND;VALUE=DATE:20230112
DTSTAMP:20260422T210142
CREATED:20221018T051122Z
LAST-MODIFIED:20221026T043134Z
UID:15794-1672790400-1673481599@www.surflifesaving.com.au
SUMMARY:Trans Tasman Tri Series
DESCRIPTION:Event Overview\nThe Trans Tasman Tri Series sees teams from NSW Country\, Central Coast and New Zealand’s Northern Region come together to compete in a three-round development series. The Trans Tasman Tri Series has a history of 30 years and in 2023\, will host by NSW’s Far North Coast Branch. \nEvent Details\nDates: 4-11 January 2023 \nLocations: Cudgen Headland\, Fingal Head and Lennox Head
URL:https://www.surflifesaving.com.au/event/trans-tasman-tri-series/
LOCATION:Far North Coast Branch\, 3 Shelly Beach Rd\, East Ballina\, NSW\, 2478
CATEGORIES:SLSNSW Event
ORGANIZER;CN="SLSNSW Surf Sports Team":MAILTO:surfsports@surflifesaving.com.au
END:VEVENT
END:VCALENDAR