BEGIN:VCALENDAR
VERSION:2.0
PRODID:-//Surf Life Saving NSW - ECPv6.15.20//NONSGML v1.0//EN
CALSCALE:GREGORIAN
METHOD:PUBLISH
X-WR-CALNAME:Surf Life Saving NSW
X-ORIGINAL-URL:https://www.surflifesaving.com.au
X-WR-CALDESC:Events for Surf Life Saving NSW
REFRESH-INTERVAL;VALUE=DURATION:PT1H
X-Robots-Tag:noindex
X-PUBLISHED-TTL:PT1H
BEGIN:VTIMEZONE
TZID:Australia/Sydney
BEGIN:STANDARD
TZOFFSETFROM:+1100
TZOFFSETTO:+1000
TZNAME:AEST
DTSTART:20220402T160000
END:STANDARD
BEGIN:DAYLIGHT
TZOFFSETFROM:+1000
TZOFFSETTO:+1100
TZNAME:AEDT
DTSTART:20221001T160000
END:DAYLIGHT
BEGIN:STANDARD
TZOFFSETFROM:+1100
TZOFFSETTO:+1000
TZNAME:AEST
DTSTART:20230401T160000
END:STANDARD
BEGIN:DAYLIGHT
TZOFFSETFROM:+1000
TZOFFSETTO:+1100
TZNAME:AEDT
DTSTART:20230930T160000
END:DAYLIGHT
BEGIN:STANDARD
TZOFFSETFROM:+1100
TZOFFSETTO:+1000
TZNAME:AEST
DTSTART:20240406T160000
END:STANDARD
BEGIN:DAYLIGHT
TZOFFSETFROM:+1000
TZOFFSETTO:+1100
TZNAME:AEDT
DTSTART:20241005T160000
END:DAYLIGHT
END:VTIMEZONE
BEGIN:VEVENT
DTSTART;TZID=Australia/Sydney:20230402T073000
DTEND;TZID=Australia/Sydney:20230402T120000
DTSTAMP:20260422T180214
CREATED:20230208T004122Z
LAST-MODIFIED:20230208T004122Z
UID:16349-1680420600-1680436800@www.surflifesaving.com.au
SUMMARY:Coogee Island Challenge Ocean Swim
DESCRIPTION:The Coogee Island Challenge autumn edition is the second ‘cut of the cake’ for swimmers looking to take on this epic island journey swim\, with its spring equivalent having been held in November. \nA Swimmers Sanctuary – The waters off Wedding Cake Island are a swimmer’s sanctuary. On an ideal calm morning\, clarity around the Island can provide a sensory overload\, with hours to be spent exploring an abundance of sea life and rock formations. The event offers three ocean swim distances\, an 800m Junior Dash and a 1km course in the relative safety of the bay\, and the 2.4km main event\, the later two distances for swimmers aged 13 years and over.
URL:https://www.surflifesaving.com.au/event/coogee-island-challenge-ocean-swim/
LOCATION:Coogee Beach\, Coogee\, NSW\, 2034\, Australia
CATEGORIES:Club Event
ATTACH;FMTTYPE=image/jpeg:https://www.surflifesaving.com.au/wp-content/uploads/sites/2/2023/02/CIC-SLSNSW.jpg
ORGANIZER;CN="Coogee SLSC Ocean Events":MAILTO:oceanevents@coogeeslsc.com.au
END:VEVENT
END:VCALENDAR