BEGIN:VCALENDAR
VERSION:2.0
PRODID:-//Surf Life Saving NSW - ECPv6.15.20//NONSGML v1.0//EN
CALSCALE:GREGORIAN
METHOD:PUBLISH
X-ORIGINAL-URL:https://www.surflifesaving.com.au
X-WR-CALDESC:Events for Surf Life Saving NSW
REFRESH-INTERVAL;VALUE=DURATION:PT1H
X-Robots-Tag:noindex
X-PUBLISHED-TTL:PT1H
BEGIN:VTIMEZONE
TZID:Australia/Sydney
BEGIN:STANDARD
TZOFFSETFROM:+1100
TZOFFSETTO:+1000
TZNAME:AEST
DTSTART:20230401T160000
END:STANDARD
BEGIN:DAYLIGHT
TZOFFSETFROM:+1000
TZOFFSETTO:+1100
TZNAME:AEDT
DTSTART:20230930T160000
END:DAYLIGHT
BEGIN:STANDARD
TZOFFSETFROM:+1100
TZOFFSETTO:+1000
TZNAME:AEST
DTSTART:20240406T160000
END:STANDARD
BEGIN:DAYLIGHT
TZOFFSETFROM:+1000
TZOFFSETTO:+1100
TZNAME:AEDT
DTSTART:20241005T160000
END:DAYLIGHT
BEGIN:STANDARD
TZOFFSETFROM:+1100
TZOFFSETTO:+1000
TZNAME:AEST
DTSTART:20250405T160000
END:STANDARD
BEGIN:DAYLIGHT
TZOFFSETFROM:+1000
TZOFFSETTO:+1100
TZNAME:AEDT
DTSTART:20251004T160000
END:DAYLIGHT
END:VTIMEZONE
BEGIN:VEVENT
DTSTART;VALUE=DATE:20240107
DTEND;VALUE=DATE:20240108
DTSTAMP:20260422T021811
CREATED:20231121T043653Z
LAST-MODIFIED:20231121T043653Z
UID:17716-1704585600-1704671999@www.surflifesaving.com.au
SUMMARY:Wamberal SLSC Race One Junior Iron Person
DESCRIPTION:The Wamberal SLSC Race One Junior Iron Person is back for its 23rd year. \nRace One is joing the ranks in support of the carnival this year\, providing two nipper boards & two racing mals for lucky draw prizes on the day. Entries are now open via sems.
URL:https://www.surflifesaving.com.au/event/wamberal-slsc-race-one-junior-iron-person/
LOCATION:Wamberal Surf Life Saving Club\, 1 Dover Rd\, Wamberal\, NSW\, 2260\, Australia
CATEGORIES:Club Event
ATTACH;FMTTYPE=image/jpeg:https://www.surflifesaving.com.au/wp-content/uploads/sites/2/2023/11/Screenshot-2023-11-21-151823.jpg
ORGANIZER;CN="Wamberal Surf Life Saving Club":MAILTO:office@wamberalslsc.au
END:VEVENT
END:VCALENDAR