BEGIN:VCALENDAR
VERSION:2.0
PRODID:-//Surf Life Saving NSW - ECPv6.15.20//NONSGML v1.0//EN
CALSCALE:GREGORIAN
METHOD:PUBLISH
X-WR-CALNAME:Surf Life Saving NSW
X-ORIGINAL-URL:https://www.surflifesaving.com.au
X-WR-CALDESC:Events for Surf Life Saving NSW
REFRESH-INTERVAL;VALUE=DURATION:PT1H
X-Robots-Tag:noindex
X-PUBLISHED-TTL:PT1H
BEGIN:VTIMEZONE
TZID:Australia/Sydney
BEGIN:STANDARD
TZOFFSETFROM:+1100
TZOFFSETTO:+1000
TZNAME:AEST
DTSTART:20230401T160000
END:STANDARD
BEGIN:DAYLIGHT
TZOFFSETFROM:+1000
TZOFFSETTO:+1100
TZNAME:AEDT
DTSTART:20230930T160000
END:DAYLIGHT
BEGIN:STANDARD
TZOFFSETFROM:+1100
TZOFFSETTO:+1000
TZNAME:AEST
DTSTART:20240406T160000
END:STANDARD
BEGIN:DAYLIGHT
TZOFFSETFROM:+1000
TZOFFSETTO:+1100
TZNAME:AEDT
DTSTART:20241005T160000
END:DAYLIGHT
BEGIN:STANDARD
TZOFFSETFROM:+1100
TZOFFSETTO:+1000
TZNAME:AEST
DTSTART:20250405T160000
END:STANDARD
BEGIN:DAYLIGHT
TZOFFSETFROM:+1000
TZOFFSETTO:+1100
TZNAME:AEDT
DTSTART:20251004T160000
END:DAYLIGHT
END:VTIMEZONE
BEGIN:VEVENT
DTSTART;VALUE=DATE:20240406
DTEND;VALUE=DATE:20240407
DTSTAMP:20260421T214632
CREATED:20240207T033729Z
LAST-MODIFIED:20240404T060550Z
UID:18011-1712361600-1712447999@www.surflifesaving.com.au
SUMMARY:2024 SLSNSW Surf Boat Metro & Country Championships
DESCRIPTION:IMPORTANT UPDATE: Regrettably\, severe weather and hazardous conditions on the roads has forced the cancellation of this weekend’s Metro/Country and Interseries Surfboat Championships at Ocean Beach. \n\n \n\n\nAdvice from the BOM and SES is that localised flooding may occur in some areas. The Competition Safety Committee has made the decision to cancel the weekend’s events in the interests of member safety due to the risk to crews and officials travelling to the event on Friday. As the extreme weather is likely to linger into Saturday\, the completion of a full program of racing is unrealistic. \n\n\n \n\n\nWhile disappointing\, we hope that all members stay safe over the coming days and we wish all those crews going to the Aussies the very best of luck.\n\n. \n. \n. \nIn a new format for the 23/24 season\, SLSNSW will re – introduce the Metropolitan Surf Boat Championship\, which will coincide with the staging of the NSW Surfboat Country Championships hosted by Ocean Beach SLSC (Central Coast Branch) on Saturday 6 April 2024. \nEvent Overview\nThe Country and Metropolitan Championships will compete across the same events\, in different arenas on Saturday\, showcasing the depth of surf boat competition in NSW from U19 through Masters categories. The events will be conducted under Championship conditions. \nEntry Details\nEntries are to be completed online using SEMS. \nPlease ensure that Country Crews / Clubs enter the 2024 SLSNSW Country Surfboat Championship event.\nPlease ensure that Metropolitan Crews/Clubs enter the 2024 SLSNSW Metropolitan Surfboat Championship Event.
URL:https://www.surflifesaving.com.au/event/2024-slsnsw-surf-boat-metro-country-championships/
LOCATION:Ocean Beach SLSC\, 176 The Esplanade\, Umina Beach\, NSW\, 2257
CATEGORIES:Sport,Surf Boats
ATTACH;FMTTYPE=image/jpeg:https://www.surflifesaving.com.au/wp-content/uploads/sites/2/2024/02/pb8-scaled.jpg
ORGANIZER;CN="SLSNSW Surf Sports Team":MAILTO:surfsports@surflifesaving.com.au
END:VEVENT
END:VCALENDAR