BEGIN:VCALENDAR
VERSION:2.0
PRODID:-//Surf Life Saving NSW - ECPv6.15.20//NONSGML v1.0//EN
CALSCALE:GREGORIAN
METHOD:PUBLISH
X-ORIGINAL-URL:https://www.surflifesaving.com.au
X-WR-CALDESC:Events for Surf Life Saving NSW
REFRESH-INTERVAL;VALUE=DURATION:PT1H
X-Robots-Tag:noindex
X-PUBLISHED-TTL:PT1H
BEGIN:VTIMEZONE
TZID:Australia/Sydney
BEGIN:STANDARD
TZOFFSETFROM:+1100
TZOFFSETTO:+1000
TZNAME:AEST
DTSTART:20230401T160000
END:STANDARD
BEGIN:DAYLIGHT
TZOFFSETFROM:+1000
TZOFFSETTO:+1100
TZNAME:AEDT
DTSTART:20230930T160000
END:DAYLIGHT
BEGIN:STANDARD
TZOFFSETFROM:+1100
TZOFFSETTO:+1000
TZNAME:AEST
DTSTART:20240406T160000
END:STANDARD
BEGIN:DAYLIGHT
TZOFFSETFROM:+1000
TZOFFSETTO:+1100
TZNAME:AEDT
DTSTART:20241005T160000
END:DAYLIGHT
BEGIN:STANDARD
TZOFFSETFROM:+1100
TZOFFSETTO:+1000
TZNAME:AEST
DTSTART:20250405T160000
END:STANDARD
BEGIN:DAYLIGHT
TZOFFSETFROM:+1000
TZOFFSETTO:+1100
TZNAME:AEDT
DTSTART:20251004T160000
END:DAYLIGHT
END:VTIMEZONE
BEGIN:VEVENT
DTSTART;VALUE=DATE:20240414
DTEND;VALUE=DATE:20240415
DTSTAMP:20260421T214644
CREATED:20240305T035753Z
LAST-MODIFIED:20240305T035943Z
UID:18138-1713052800-1713139199@www.surflifesaving.com.au
SUMMARY:Coogee Island Challenge Ocean Swim
DESCRIPTION:The Coogee Island Challenge (autumn edition) is the second ‘cut of the cake’ for swimmers looking to take on this epic Wedding Cake Island ocean swim\, with its spring equivalent having been held in November last year. \nThe event offers three ocean swim distances; an 800m Junior Dash for 10-12yrs\, a 1km course in the relative safety of the bay\, and the 2.4km main event\, the later two distances for swimmers aged 13 years and over. \nThis swim is the perfect opportunity to circumnavigate Wedding Cake Island\, a little rock reef sitting offshore from Coogee Beach in Sydney’s Eastern Suburbs\, and end the ocean swimming season in style.
URL:https://www.surflifesaving.com.au/event/coogee-island-challenge-ocean-swim-3/
LOCATION:Coogee Beach\, Coogee\, NSW\, 2034\, Australia
CATEGORIES:Club Event,Sport
ATTACH;FMTTYPE=image/jpeg:https://www.surflifesaving.com.au/wp-content/uploads/sites/2/2024/03/CIC-SLSNSW.jpg
ORGANIZER;CN="Coogee SLSC Ocean Events":MAILTO:oceanevents@coogeeslsc.com.au
END:VEVENT
END:VCALENDAR