BEGIN:VCALENDAR
VERSION:2.0
PRODID:-//Surf Life Saving NSW - ECPv6.15.18//NONSGML v1.0//EN
CALSCALE:GREGORIAN
METHOD:PUBLISH
X-WR-CALNAME:Surf Life Saving NSW
X-ORIGINAL-URL:https://www.surflifesaving.com.au
X-WR-CALDESC:Events for Surf Life Saving NSW
REFRESH-INTERVAL;VALUE=DURATION:PT1H
X-Robots-Tag:noindex
X-PUBLISHED-TTL:PT1H
BEGIN:VTIMEZONE
TZID:Australia/Sydney
BEGIN:STANDARD
TZOFFSETFROM:+1100
TZOFFSETTO:+1000
TZNAME:AEST
DTSTART:20230401T160000
END:STANDARD
BEGIN:DAYLIGHT
TZOFFSETFROM:+1000
TZOFFSETTO:+1100
TZNAME:AEDT
DTSTART:20230930T160000
END:DAYLIGHT
BEGIN:STANDARD
TZOFFSETFROM:+1100
TZOFFSETTO:+1000
TZNAME:AEST
DTSTART:20240406T160000
END:STANDARD
BEGIN:DAYLIGHT
TZOFFSETFROM:+1000
TZOFFSETTO:+1100
TZNAME:AEDT
DTSTART:20241005T160000
END:DAYLIGHT
BEGIN:STANDARD
TZOFFSETFROM:+1100
TZOFFSETTO:+1000
TZNAME:AEST
DTSTART:20250405T160000
END:STANDARD
BEGIN:DAYLIGHT
TZOFFSETFROM:+1000
TZOFFSETTO:+1100
TZNAME:AEDT
DTSTART:20251004T160000
END:DAYLIGHT
END:VTIMEZONE
BEGIN:VEVENT
DTSTART;VALUE=DATE:20240921
DTEND;VALUE=DATE:20240922
DTSTAMP:20260421T144614
CREATED:20240605T010832Z
LAST-MODIFIED:20240904T001153Z
UID:18568-1726876800-1726963199@www.surflifesaving.com.au
SUMMARY:Rainbow Gold Enduro
DESCRIPTION:The Wauchope Bonny Hills Rainbow Gold Enduro is back for another year! \nDate: Saturday 21 September 2024 \nEntries: Entries close Monday 16 September. \nMore information in the event flyer below. \n 
URL:https://www.surflifesaving.com.au/event/rainbow-gold-enduro/
LOCATION:Wauchope Bonny Hills Surf Life Saving Club\, Rainbow Beach\, Bonny Hills\, NSW\, 2445
CATEGORIES:Club Event,Sport
ATTACH;FMTTYPE=image/jpeg:https://www.surflifesaving.com.au/wp-content/uploads/sites/2/2024/06/Screenshot-2024-06-05-at-11.07.52 am.jpg
ORGANIZER;CN="Wauchope Bonny Hills Surf Life Saving Club":MAILTO:wbhslsc@gmail.com
END:VEVENT
BEGIN:VEVENT
DTSTART;VALUE=DATE:20240921
DTEND;VALUE=DATE:20240922
DTSTAMP:20260421T144614
CREATED:20240829T014317Z
LAST-MODIFIED:20240829T014317Z
UID:18977-1726876800-1726963199@www.surflifesaving.com.au
SUMMARY:Toowoon Bay SLSC 70th Anniversary
DESCRIPTION:Toowoon Bay Surf Life Saving Club is gearing up to celebrate its 70th anniversary this season.  \nTo celebrate\, the club is hosting two amazing events; a cocktail party\, and a beach party. Find more info on each below. \n1. A Cocktail Party – 6:30pm Friday 13th September in the Toowoon Bay SLSC Club House \nTo kick off the celebrations there will be a cocktail party. Tickets are limited and at $100 includes food\, drink and entertainment in this iconic venue overlooking beautiful Toowoon Bay Beach. Entertainment will be provided by Nouveau Vintage. To purchase tickets\, either scan the QR code on the invitation\, use this link – 70th Anniversary Cocktail Party or tickets will be available via the Office at office.toowoonbayslsc@gmail.com or (02) 4332 2411 or 0406 116 603. \n2. A Party on the Beach – 10am-4pm Saturday 21st September \nWith the generous support of Central Coast Council the club is hosting a fabulous day of lifesaving demonstrations and free entertainment by the Shott Boys at Toowoon Bay beach. The Village Kiosk will have an assortment of food options on offer – bring your picnic rug for a great afternoon on the beach! \nIf you would like any further information on these events please contact Club Manager Jacqui Donadel on 0406 116 603 or office.toowoonbayslsc@gmail.com or immediate past president and 70th celebration convenor Phil Raymont on 0447 003 397.
URL:https://www.surflifesaving.com.au/event/toowoon-bay-slsc-70th-anniversary/
LOCATION:Toowoon Bay SLSC\, 160 Bay Rd\, Toowoon Bay\, NSW\, 2261\, Australia
CATEGORIES:Club Event
ATTACH;FMTTYPE=image/jpeg:https://www.surflifesaving.com.au/wp-content/uploads/sites/2/2024/08/Screenshot-2024-08-29-at-11.42.52 AM.jpg
END:VEVENT
END:VCALENDAR