BEGIN:VCALENDAR
VERSION:2.0
PRODID:-//Surf Life Saving NSW - ECPv6.15.16//NONSGML v1.0//EN
CALSCALE:GREGORIAN
METHOD:PUBLISH
X-ORIGINAL-URL:https://www.surflifesaving.com.au
X-WR-CALDESC:Events for Surf Life Saving NSW
REFRESH-INTERVAL;VALUE=DURATION:PT1H
X-Robots-Tag:noindex
X-PUBLISHED-TTL:PT1H
BEGIN:VTIMEZONE
TZID:Australia/Sydney
BEGIN:STANDARD
TZOFFSETFROM:+1100
TZOFFSETTO:+1000
TZNAME:AEST
DTSTART:20230401T160000
END:STANDARD
BEGIN:DAYLIGHT
TZOFFSETFROM:+1000
TZOFFSETTO:+1100
TZNAME:AEDT
DTSTART:20230930T160000
END:DAYLIGHT
BEGIN:STANDARD
TZOFFSETFROM:+1100
TZOFFSETTO:+1000
TZNAME:AEST
DTSTART:20240406T160000
END:STANDARD
BEGIN:DAYLIGHT
TZOFFSETFROM:+1000
TZOFFSETTO:+1100
TZNAME:AEDT
DTSTART:20241005T160000
END:DAYLIGHT
BEGIN:STANDARD
TZOFFSETFROM:+1100
TZOFFSETTO:+1000
TZNAME:AEST
DTSTART:20250405T160000
END:STANDARD
BEGIN:DAYLIGHT
TZOFFSETFROM:+1000
TZOFFSETTO:+1100
TZNAME:AEDT
DTSTART:20251004T160000
END:DAYLIGHT
END:VTIMEZONE
BEGIN:VEVENT
DTSTART;TZID=Australia/Sydney:20241102T073000
DTEND;TZID=Australia/Sydney:20241102T170000
DTSTAMP:20260421T102652
CREATED:20240917T212112Z
LAST-MODIFIED:20240917T212112Z
UID:19066-1730532600-1730566800@www.surflifesaving.com.au
SUMMARY:RunSwim Coogee Aquathon
DESCRIPTION:RunSwim Coogee Aquathlon is a multisport event hosted by Coogee Surf Life Saving Club together with our partners Randwick City Council and major sponsors. \nThis event combines multiple runs and swims along the iconic Bondi to Coogee Coastal Walk\, offering a true test of endurance with challenging transitions at Clovelly Bay\, Gordons Bay\, and Coogee Bay. It’s a course designed to push even the fittest competitors to their limits. \nAs an important community\, fundraising\, and charity-driven event\, the RunSwim Coogee Aquathlon plays a crucial role in supporting our lifesaving efforts. With limited registrations available\, this event is expected to sell out fast. All proceeds go directly towards maintaining essential lifesaving equipment and services\, ensuring the safety of our community on the beach. \nEvent page \nhttps://coogeeoceanevents.com.au/event/runswim-coogee-aquathlon/ \nEmail \noceanevents@coogeeslsc.com.au \nWebsite \nhttps://coogeeoceanevents.com.au/
URL:https://www.surflifesaving.com.au/event/runswim-coogee-aquathon/
LOCATION:Coogee Beach\, Coogee\, NSW\, 2034\, Australia
CATEGORIES:Club Event,Water Event
ATTACH;FMTTYPE=image/jpeg:https://www.surflifesaving.com.au/wp-content/uploads/sites/2/2024/09/RSC-SLSNSW.jpg
ORGANIZER;CN="Coogee Surf Life Saving Club":MAILTO:admin@coogeeslsc.com.au
END:VEVENT
END:VCALENDAR