BEGIN:VCALENDAR
VERSION:2.0
PRODID:-//Surf Life Saving NSW - ECPv6.15.16//NONSGML v1.0//EN
CALSCALE:GREGORIAN
METHOD:PUBLISH
X-WR-CALNAME:Surf Life Saving NSW
X-ORIGINAL-URL:https://www.surflifesaving.com.au
X-WR-CALDESC:Events for Surf Life Saving NSW
REFRESH-INTERVAL;VALUE=DURATION:PT1H
X-Robots-Tag:noindex
X-PUBLISHED-TTL:PT1H
BEGIN:VTIMEZONE
TZID:Australia/Sydney
BEGIN:STANDARD
TZOFFSETFROM:+1100
TZOFFSETTO:+1000
TZNAME:AEST
DTSTART:20230401T160000
END:STANDARD
BEGIN:DAYLIGHT
TZOFFSETFROM:+1000
TZOFFSETTO:+1100
TZNAME:AEDT
DTSTART:20230930T160000
END:DAYLIGHT
BEGIN:STANDARD
TZOFFSETFROM:+1100
TZOFFSETTO:+1000
TZNAME:AEST
DTSTART:20240406T160000
END:STANDARD
BEGIN:DAYLIGHT
TZOFFSETFROM:+1000
TZOFFSETTO:+1100
TZNAME:AEDT
DTSTART:20241005T160000
END:DAYLIGHT
BEGIN:STANDARD
TZOFFSETFROM:+1100
TZOFFSETTO:+1000
TZNAME:AEST
DTSTART:20250405T160000
END:STANDARD
BEGIN:DAYLIGHT
TZOFFSETFROM:+1000
TZOFFSETTO:+1100
TZNAME:AEDT
DTSTART:20251004T160000
END:DAYLIGHT
END:VTIMEZONE
BEGIN:VEVENT
DTSTART;VALUE=DATE:20241104
DTEND;VALUE=DATE:20241123
DTSTAMP:20260421T115519
CREATED:20240722T003311Z
LAST-MODIFIED:20240722T003311Z
UID:18749-1730678400-1732319999@www.surflifesaving.com.au
SUMMARY:Ingenia Holiday Parks Beach to Bush 2024
DESCRIPTION:The Ingenia Holiday Parks Beach to Bush is back for another year. More info to come soon.
URL:https://www.surflifesaving.com.au/event/ingenia-holiday-parks-beach-to-bush-2024/
LOCATION:Various
CATEGORIES:Community Education
ORGANIZER;CN="SLSNSW Communty Education Team":MAILTO:community@surflifesaving.com.au
END:VEVENT
BEGIN:VEVENT
DTSTART;VALUE=DATE:20241116
DTEND;VALUE=DATE:20241117
DTSTAMP:20260421T115519
CREATED:20240821T003312Z
LAST-MODIFIED:20240918T013243Z
UID:18932-1731715200-1731801599@www.surflifesaving.com.au
SUMMARY:2024 Sydney Water Series
DESCRIPTION:The Sydney Water Series is back for another year! \nDates and Locations \nRound 1: Saturday 19 October – Bulli SLSC\nRound 2: Saturday 2 November – Warilla Barrack Point SLSC\nRound 3: Sunday 3 November – Warilla Barrack Point SLSC\nRound 4: Saturday 16 November – Wollongong City SLSC
URL:https://www.surflifesaving.com.au/event/2024-sydney-water-series/
LOCATION:Wollongong City SLSC\, 1 Marine Drive\, Wollongong\, NSW\, 2500
CATEGORIES:Branch Event,Sport,Water Event
ATTACH;FMTTYPE=image/jpeg:https://www.surflifesaving.com.au/wp-content/uploads/sites/2/2024/08/Screenshot-2024-08-21-at-10.26.06 AM.jpg
ORGANIZER;CN="Surf Life Saving Illawarra":MAILTO:office@slsillawarra.com.au
END:VEVENT
END:VCALENDAR