BEGIN:VCALENDAR
VERSION:2.0
PRODID:-//Surf Life Saving NSW - ECPv6.15.16//NONSGML v1.0//EN
CALSCALE:GREGORIAN
METHOD:PUBLISH
X-ORIGINAL-URL:https://www.surflifesaving.com.au
X-WR-CALDESC:Events for Surf Life Saving NSW
REFRESH-INTERVAL;VALUE=DURATION:PT1H
X-Robots-Tag:noindex
X-PUBLISHED-TTL:PT1H
BEGIN:VTIMEZONE
TZID:Australia/Sydney
BEGIN:STANDARD
TZOFFSETFROM:+1100
TZOFFSETTO:+1000
TZNAME:AEST
DTSTART:20230401T160000
END:STANDARD
BEGIN:DAYLIGHT
TZOFFSETFROM:+1000
TZOFFSETTO:+1100
TZNAME:AEDT
DTSTART:20230930T160000
END:DAYLIGHT
BEGIN:STANDARD
TZOFFSETFROM:+1100
TZOFFSETTO:+1000
TZNAME:AEST
DTSTART:20240406T160000
END:STANDARD
BEGIN:DAYLIGHT
TZOFFSETFROM:+1000
TZOFFSETTO:+1100
TZNAME:AEDT
DTSTART:20241005T160000
END:DAYLIGHT
BEGIN:STANDARD
TZOFFSETFROM:+1100
TZOFFSETTO:+1000
TZNAME:AEST
DTSTART:20250405T160000
END:STANDARD
BEGIN:DAYLIGHT
TZOFFSETFROM:+1000
TZOFFSETTO:+1100
TZNAME:AEDT
DTSTART:20251004T160000
END:DAYLIGHT
END:VTIMEZONE
BEGIN:VEVENT
DTSTART;TZID=Australia/Sydney:20241124T073000
DTEND;TZID=Australia/Sydney:20241124T170000
DTSTAMP:20260421T102725
CREATED:20240917T212517Z
LAST-MODIFIED:20240917T212517Z
UID:19068-1732433400-1732467600@www.surflifesaving.com.au
SUMMARY:Coogee Island Challenge Ocean Swim
DESCRIPTION:The Coogee Island Challenge (spring edition) is the first ‘cut of the cake’ for swimmers looking to take on this epic island journey swim\, with its autumn equivalent having been held in April. \nThis swim offers the perfect opportunity to circumnavigate Wedding Cake Island\, a renowned rock reef just offshore from Coogee Beach in Sydney’s Eastern Suburbs\, providing a stylish and challenging end to the ocean swimming season. \nThe event features three ocean swim distances: an 800m Junior Dash for our youngest competitors\, a 1km course within the relative safety of the bay\, and the 2.4km main event for those aged 13 years and over. Whether you’re a seasoned swimmer or new to ocean swimming\, this event promises an unforgettable experience. \nThis November\, and to coincide with National Skin Cancer Action Week\, we’re proud to partner with Skin Check Champions and the Melanoma Institute Australia to provide free skin checks and promote sun safety throughout the event. Swimmers are at a sixty times greater risk of being diagnosed with melanoma compared to the average Aussie\, making it essential for all of us to take sun safety seriously. \nEvent page \nhttps://coogeeoceanevents.com.au/event/coogee-island-challenge/ \nEmail \noceanevents@coogeeslsc.com.au \nWebsite \nhttps://coogeeoceanevents.com.au/
URL:https://www.surflifesaving.com.au/event/coogee-island-challenge-ocean-swim-4/
LOCATION:Coogee Beach\, Coogee\, NSW\, 2034\, Australia
CATEGORIES:Club Event,Water Event
ATTACH;FMTTYPE=image/jpeg:https://www.surflifesaving.com.au/wp-content/uploads/sites/2/2024/09/CIC-SLSNSW.jpg
ORGANIZER;CN="Coogee Surf Life Saving Club":MAILTO:admin@coogeeslsc.com.au
END:VEVENT
END:VCALENDAR