BEGIN:VCALENDAR
VERSION:2.0
PRODID:-//Surf Life Saving NSW - ECPv6.15.20//NONSGML v1.0//EN
CALSCALE:GREGORIAN
METHOD:PUBLISH
X-WR-CALNAME:Surf Life Saving NSW
X-ORIGINAL-URL:https://www.surflifesaving.com.au
X-WR-CALDESC:Events for Surf Life Saving NSW
REFRESH-INTERVAL;VALUE=DURATION:PT1H
X-Robots-Tag:noindex
X-PUBLISHED-TTL:PT1H
BEGIN:VTIMEZONE
TZID:Australia/Sydney
BEGIN:STANDARD
TZOFFSETFROM:+1100
TZOFFSETTO:+1000
TZNAME:AEST
DTSTART:20210403T160000
END:STANDARD
BEGIN:DAYLIGHT
TZOFFSETFROM:+1000
TZOFFSETTO:+1100
TZNAME:AEDT
DTSTART:20211002T160000
END:DAYLIGHT
BEGIN:STANDARD
TZOFFSETFROM:+1100
TZOFFSETTO:+1000
TZNAME:AEST
DTSTART:20220402T160000
END:STANDARD
BEGIN:DAYLIGHT
TZOFFSETFROM:+1000
TZOFFSETTO:+1100
TZNAME:AEDT
DTSTART:20221001T160000
END:DAYLIGHT
BEGIN:STANDARD
TZOFFSETFROM:+1100
TZOFFSETTO:+1000
TZNAME:AEST
DTSTART:20230401T160000
END:STANDARD
BEGIN:DAYLIGHT
TZOFFSETFROM:+1000
TZOFFSETTO:+1100
TZNAME:AEDT
DTSTART:20230930T160000
END:DAYLIGHT
END:VTIMEZONE
BEGIN:VEVENT
DTSTART;TZID=Australia/Sydney:20221001T090000
DTEND;TZID=Australia/Sydney:20221002T170000
DTSTAMP:20260422T202928
CREATED:20220715T002107Z
LAST-MODIFIED:20220728T011200Z
UID:14868-1664614800-1664730000@www.surflifesaving.com.au
SUMMARY:Professionals Weekend of Surf
DESCRIPTION:The Professionals Weekend of Surf is back for the 25th Year at Main Beach Forster after two years Covid 19 cancelations. \nWe welcome all competitors and officials along with family to a great weekend of competition on the October Long Weekend\, 1-2 October 2022. \nWhilst our clubhouse should be knocked down in preparation for construction of a new Club\, we will do our best to ensure a competitive fun carnival is run as always. \nEntries open 25th August – same events and entry fees as 2019 – look forward to seeing you in Forster. \nFull event information here.
URL:https://www.surflifesaving.com.au/event/professionals-weekend-of-surf/
LOCATION:Forster SLSC\, Beach Street\, Forster\, NSW\, 2428\, Australia
CATEGORIES:Beach Event,Club Event,Sport,Water Event
ATTACH;FMTTYPE=image/jpeg:https://www.surflifesaving.com.au/wp-content/uploads/sites/2/2022/07/Untitled-design-2022-07-15T101526.011.jpg
ORGANIZER;CN="Forster SLSC":MAILTO:sblee@westnet.com.au
END:VEVENT
END:VCALENDAR