BEGIN:VCALENDAR
VERSION:2.0
PRODID:-//Surf Life Saving NSW - ECPv6.15.20//NONSGML v1.0//EN
CALSCALE:GREGORIAN
METHOD:PUBLISH
X-ORIGINAL-URL:https://www.surflifesaving.com.au
X-WR-CALDESC:Events for Surf Life Saving NSW
REFRESH-INTERVAL;VALUE=DURATION:PT1H
X-Robots-Tag:noindex
X-PUBLISHED-TTL:PT1H
BEGIN:VTIMEZONE
TZID:Australia/Sydney
BEGIN:STANDARD
TZOFFSETFROM:+1100
TZOFFSETTO:+1000
TZNAME:AEST
DTSTART:20210403T160000
END:STANDARD
BEGIN:DAYLIGHT
TZOFFSETFROM:+1000
TZOFFSETTO:+1100
TZNAME:AEDT
DTSTART:20211002T160000
END:DAYLIGHT
BEGIN:STANDARD
TZOFFSETFROM:+1100
TZOFFSETTO:+1000
TZNAME:AEST
DTSTART:20220402T160000
END:STANDARD
BEGIN:DAYLIGHT
TZOFFSETFROM:+1000
TZOFFSETTO:+1100
TZNAME:AEDT
DTSTART:20221001T160000
END:DAYLIGHT
BEGIN:STANDARD
TZOFFSETFROM:+1100
TZOFFSETTO:+1000
TZNAME:AEST
DTSTART:20230401T160000
END:STANDARD
BEGIN:DAYLIGHT
TZOFFSETFROM:+1000
TZOFFSETTO:+1100
TZNAME:AEDT
DTSTART:20230930T160000
END:DAYLIGHT
END:VTIMEZONE
BEGIN:VEVENT
DTSTART;VALUE=DATE:20221112
DTEND;VALUE=DATE:20221113
DTSTAMP:20260422T185824
CREATED:20220927T020159Z
LAST-MODIFIED:20221101T221447Z
UID:15677-1668211200-1668297599@www.surflifesaving.com.au
SUMMARY:Sydney Water Surf Series
DESCRIPTION:Event Overview\nThe Sydney Water Surf Series is back for its 19th year! The Surf Life Saving Illawarra series consists of four rounds\, with competitors from all over NSW coming along to race. The series caters for Under 8’s right through to Masters in surf/craft & beach individual events. \nEvent Details\nDates and locations for each round are as follows: \n\nRound 1: Saturday 22 October 2022 – Warilla Barrack Point SLSC\nRound 2: Saturday 29 October 2022 – Thirroul SLSC\nRound 3: Saturday 12 November 2022 – Kiama Downs SLSC\nRound 4: Saturday 19 November 2022 – Bulli SLSC\n\nEntries can be completed by clubs via SEMS\, and close midnight\, Wednesday 19 October 2022.
URL:https://www.surflifesaving.com.au/event/sydney-water-surf-series/
LOCATION:Kiama Downs SLSC\, 150 N Kiama Drive\, Kiama Downs\, NSW\, 2533\, Australia
CATEGORIES:Beach Event,Branch Event,Water Event
ATTACH;FMTTYPE=image/jpeg:https://www.surflifesaving.com.au/wp-content/uploads/sites/2/2022/09/Screenshot-2022-09-27-115124.jpg
ORGANIZER;CN="Surf Life Saving Illawarra":MAILTO:office@slsillawarra.com.au
END:VEVENT
BEGIN:VEVENT
DTSTART;VALUE=DATE:20221112
DTEND;VALUE=DATE:20221113
DTSTAMP:20260422T185824
CREATED:20221026T031220Z
LAST-MODIFIED:20221108T023534Z
UID:15828-1668211200-1668297599@www.surflifesaving.com.au
SUMMARY:Australian Soft Sand Running Championships
DESCRIPTION:Jock Athletic and the World Sand Running League are back with their new Australian Soft Sand Running Championships. \nThe best from the track and from surf life saving are invited to test their mettle on sand\, with a number of different distances and events to choose from. The event will include the 15th annual Jane McGrath Classic\, a fundraising event for the McGrath Foundation. \n  \nKey Details\nDate: Saturday\, 12 November 2022 \nTime: 7:30am start \nLocation: Wanda SLSC \nEntries to be completed here by 11 November\, 2022.
URL:https://www.surflifesaving.com.au/event/australian-soft-sand-running-championships/
LOCATION:Wanda Surf Life Saving Club\, 2 Marine Esplanade\, Cronulla\, NSW\, 2230\, Australia
CATEGORIES:Beach Event
ATTACH;FMTTYPE=image/jpeg:https://www.surflifesaving.com.au/wp-content/uploads/sites/2/2022/10/Untitled-design-2022-10-26T141629.527.jpg
END:VEVENT
END:VCALENDAR