BEGIN:VCALENDAR
VERSION:2.0
PRODID:-//Surf Life Saving NSW - ECPv6.15.20//NONSGML v1.0//EN
CALSCALE:GREGORIAN
METHOD:PUBLISH
X-ORIGINAL-URL:https://www.surflifesaving.com.au
X-WR-CALDESC:Events for Surf Life Saving NSW
REFRESH-INTERVAL;VALUE=DURATION:PT1H
X-Robots-Tag:noindex
X-PUBLISHED-TTL:PT1H
BEGIN:VTIMEZONE
TZID:UTC
BEGIN:STANDARD
TZOFFSETFROM:+0000
TZOFFSETTO:+0000
TZNAME:UTC
DTSTART:20200101T000000
END:STANDARD
END:VTIMEZONE
BEGIN:VEVENT
DTSTART;VALUE=DATE:20211204
DTEND;VALUE=DATE:20211206
DTSTAMP:20260423T125014
CREATED:20211005T175641Z
LAST-MODIFIED:20211020T101550Z
UID:11931-1638576000-1638748799@www.surflifesaving.com.au
SUMMARY:2021 NSW Interbranch Championships - Cancelled
DESCRIPTION:EVENT UPDATE – 15 OCTOBER 2021\nFollowing an extensive consultation process with the Branch Presidents\, Branch Directors of Surf Sports and the SLSNSW Board\, the decision has been made to cancel the 2021 NSW Interbranch Championships. \nMore information is available via Memo: Cancellation of the 2021 NSW Interbranch Championships \nSLSNSW is appreciative of the collaborative effort to reach this difficult decision. \n \nShowcasing the best athletes from the 11 branches across NSW\, the 2021 NSW Interbranch Championship will be held at Shelly Beach SLSC on the 4 – 5 December 2021. \nSLSNSW is confirming the following venue and date for the 2021 NSW Interbranch Championships. \n\nVenue: Shelly Beach SLSC\nDate: Saturday 4 – Sunday 5 December 2021\n\nFurther information will follow in the coming weeks. \nPlease note that this does not include the Surf Boats. Details for the Surf Boat Interbranch will be announced shortly.
URL:https://www.surflifesaving.com.au/event/2021-nsw-interbranch-championships/
LOCATION:Shelly Beach Surf Life Saving Club\, Shelly Beach\, NSW\, 2261\, Australia
CATEGORIES:Beach Event,SLSNSW Event,Sport,Water Event
ATTACH;FMTTYPE=image/jpeg:https://www.surflifesaving.com.au/wp-content/uploads/sites/2/2019/12/web_interbranchfull.jpg
ORGANIZER;CN="SLSNSW Surf Sports Team":MAILTO:surfsports@surflifesaving.com.au
END:VEVENT
END:VCALENDAR