BEGIN:VCALENDAR
VERSION:2.0
PRODID:-//Surf Life Saving NSW - ECPv6.15.20//NONSGML v1.0//EN
CALSCALE:GREGORIAN
METHOD:PUBLISH
X-ORIGINAL-URL:https://www.surflifesaving.com.au
X-WR-CALDESC:Events for Surf Life Saving NSW
REFRESH-INTERVAL;VALUE=DURATION:PT1H
X-Robots-Tag:noindex
X-PUBLISHED-TTL:PT1H
BEGIN:VTIMEZONE
TZID:UTC
BEGIN:STANDARD
TZOFFSETFROM:+0000
TZOFFSETTO:+0000
TZNAME:UTC
DTSTART:20210101T000000
END:STANDARD
END:VTIMEZONE
BEGIN:VEVENT
DTSTART;VALUE=DATE:20220128
DTEND;VALUE=DATE:20220131
DTSTAMP:20260423T113818
CREATED:20211005T174232Z
LAST-MODIFIED:20220130T035449Z
UID:11929-1643328000-1643587199@www.surflifesaving.com.au
SUMMARY:2022 Oakberry Acai NSW Country Championships
DESCRIPTION:The Oakberry Acai NSW Surf Life Saving Country Championships is open to clubs outside the Newcastle-to-Illawarra corridor and is second only to the NSW Surf Life Saving Championships in size\, with an expected 1\,500 competitors\, 200 officials and around 4\,000 spectators.
URL:https://www.surflifesaving.com.au/event/2022-nsw-country-championships/
LOCATION:Cape Hawke Surf Life Saving Club\, Palmgrove Pl\, Forster\, NSW\, 2428\, Australia
CATEGORIES:Beach Event,SLSNSW Event,Sport,Surf Boats,Water Event
ATTACH;FMTTYPE=image/jpeg:https://www.surflifesaving.com.au/wp-content/uploads/sites/2/2021/10/CountryChamps_web2-1.jpg
ORGANIZER;CN="SLSNSW Surf Sports Team":MAILTO:surfsports@surflifesaving.com.au
END:VEVENT
END:VCALENDAR