BEGIN:VCALENDAR
VERSION:2.0
PRODID:-//Surf Life Saving NSW - ECPv6.15.20//NONSGML v1.0//EN
CALSCALE:GREGORIAN
METHOD:PUBLISH
X-ORIGINAL-URL:https://www.surflifesaving.com.au
X-WR-CALDESC:Events for Surf Life Saving NSW
REFRESH-INTERVAL;VALUE=DURATION:PT1H
X-Robots-Tag:noindex
X-PUBLISHED-TTL:PT1H
BEGIN:VTIMEZONE
TZID:Australia/Sydney
BEGIN:STANDARD
TZOFFSETFROM:+1100
TZOFFSETTO:+1000
TZNAME:AEST
DTSTART:20220402T160000
END:STANDARD
BEGIN:DAYLIGHT
TZOFFSETFROM:+1000
TZOFFSETTO:+1100
TZNAME:AEDT
DTSTART:20221001T160000
END:DAYLIGHT
BEGIN:STANDARD
TZOFFSETFROM:+1100
TZOFFSETTO:+1000
TZNAME:AEST
DTSTART:20230401T160000
END:STANDARD
BEGIN:DAYLIGHT
TZOFFSETFROM:+1000
TZOFFSETTO:+1100
TZNAME:AEDT
DTSTART:20230930T160000
END:DAYLIGHT
BEGIN:STANDARD
TZOFFSETFROM:+1100
TZOFFSETTO:+1000
TZNAME:AEST
DTSTART:20240406T160000
END:STANDARD
BEGIN:DAYLIGHT
TZOFFSETFROM:+1000
TZOFFSETTO:+1100
TZNAME:AEDT
DTSTART:20241005T160000
END:DAYLIGHT
END:VTIMEZONE
BEGIN:VEVENT
DTSTART;TZID=Australia/Sydney:20230127T080000
DTEND;TZID=Australia/Sydney:20230129T170000
DTSTAMP:20260422T172902
CREATED:20220706T044854Z
LAST-MODIFIED:20230207T042718Z
UID:15114-1674806400-1675011600@www.surflifesaving.com.au
SUMMARY:2023 Oakberry Acai NSW Country Championships
DESCRIPTION:The Oakberry Acai NSW Surf Life Saving Country Championships is open to clubs outside the Newcastle-to-Illawarra corridor and is second only to the NSW Surf Life Saving Championships in size\, with an expected 1\,500 competitors\, 200 officials and around 4\,000 spectators.
URL:https://www.surflifesaving.com.au/event/2023-oakberry-acai-nsw-country-championships/
LOCATION:Cape Hawke Surf Life Saving Club\, Palmgrove Pl\, Forster\, NSW\, 2428\, Australia
CATEGORIES:Beach Event,SLSNSW Event,Sport,Surf Boats,Water Event
ATTACH;FMTTYPE=image/png:https://www.surflifesaving.com.au/wp-content/uploads/sites/2/2022/07/Untitled-design-2022-07-06T132613.347.png
ORGANIZER;CN="SLSNSW Surf Sports Team":MAILTO:surfsports@surflifesaving.com.au
END:VEVENT
END:VCALENDAR