BEGIN:VCALENDAR
VERSION:2.0
PRODID:-//Surf Life Saving NSW - ECPv6.15.20//NONSGML v1.0//EN
CALSCALE:GREGORIAN
METHOD:PUBLISH
X-WR-CALNAME:Surf Life Saving NSW
X-ORIGINAL-URL:https://www.surflifesaving.com.au
X-WR-CALDESC:Events for Surf Life Saving NSW
REFRESH-INTERVAL;VALUE=DURATION:PT1H
X-Robots-Tag:noindex
X-PUBLISHED-TTL:PT1H
BEGIN:VTIMEZONE
TZID:Australia/Sydney
BEGIN:STANDARD
TZOFFSETFROM:+1100
TZOFFSETTO:+1000
TZNAME:AEST
DTSTART:20220402T160000
END:STANDARD
BEGIN:DAYLIGHT
TZOFFSETFROM:+1000
TZOFFSETTO:+1100
TZNAME:AEDT
DTSTART:20221001T160000
END:DAYLIGHT
BEGIN:STANDARD
TZOFFSETFROM:+1100
TZOFFSETTO:+1000
TZNAME:AEST
DTSTART:20230401T160000
END:STANDARD
BEGIN:DAYLIGHT
TZOFFSETFROM:+1000
TZOFFSETTO:+1100
TZNAME:AEDT
DTSTART:20230930T160000
END:DAYLIGHT
BEGIN:STANDARD
TZOFFSETFROM:+1100
TZOFFSETTO:+1000
TZNAME:AEST
DTSTART:20240406T160000
END:STANDARD
BEGIN:DAYLIGHT
TZOFFSETFROM:+1000
TZOFFSETTO:+1100
TZNAME:AEDT
DTSTART:20241005T160000
END:DAYLIGHT
BEGIN:STANDARD
TZOFFSETFROM:+1100
TZOFFSETTO:+1000
TZNAME:AEST
DTSTART:20250405T160000
END:STANDARD
BEGIN:DAYLIGHT
TZOFFSETFROM:+1000
TZOFFSETTO:+1100
TZNAME:AEDT
DTSTART:20251004T160000
END:DAYLIGHT
BEGIN:STANDARD
TZOFFSETFROM:+1100
TZOFFSETTO:+1000
TZNAME:AEST
DTSTART:20260404T160000
END:STANDARD
BEGIN:DAYLIGHT
TZOFFSETFROM:+1000
TZOFFSETTO:+1100
TZNAME:AEDT
DTSTART:20261003T160000
END:DAYLIGHT
BEGIN:STANDARD
TZOFFSETFROM:+1100
TZOFFSETTO:+1000
TZNAME:AEST
DTSTART:20270403T160000
END:STANDARD
BEGIN:DAYLIGHT
TZOFFSETFROM:+1000
TZOFFSETTO:+1100
TZNAME:AEDT
DTSTART:20271002T160000
END:DAYLIGHT
BEGIN:STANDARD
TZOFFSETFROM:+1100
TZOFFSETTO:+1000
TZNAME:AEST
DTSTART:20280401T160000
END:STANDARD
BEGIN:DAYLIGHT
TZOFFSETFROM:+1000
TZOFFSETTO:+1100
TZNAME:AEDT
DTSTART:20280930T160000
END:DAYLIGHT
END:VTIMEZONE
BEGIN:VEVENT
DTSTART;TZID=Australia/Sydney:20230217T080000
DTEND;TZID=Australia/Sydney:20230305T170000
DTSTAMP:20260423T172700
CREATED:20220706T044832Z
LAST-MODIFIED:20230308T034204Z
UID:15113-1676620800-1678035600@www.surflifesaving.com.au
SUMMARY:2023 NSW Surf Life Saving Championships
DESCRIPTION:Keep up-to-date with results this weekend with Liveheats \nThe NSW Surf Life Saving Championships\, proudly supported by Your local club\, will return to the Northern Beaches in 2023. \n \nThe 2023 Inclusive Championships will be held at North Steyne SLSC on Sunday\, 26 February.
URL:https://www.surflifesaving.com.au/event/2023-nsw-surf-life-saving-championships/
LOCATION:Queenscliff Surf Life Saving Club\, N Steyne & Collingwood St\, Manly\, NSW\, 2095\, Australia
CATEGORIES:Beach Event,Lifesaving,SLSNSW Event,Sport,Surf Boats,Water Event
ATTACH;FMTTYPE=image/png:https://www.surflifesaving.com.au/wp-content/uploads/sites/2/2022/07/MicrosoftTeams-image-100.png
ORGANIZER;CN="SLSNSW Surf Sports Team":MAILTO:surfsports@surflifesaving.com.au
END:VEVENT
BEGIN:VEVENT
DTSTART;TZID=Australia/Sydney:20230916T090000
DTEND;TZID=Australia/Sydney:20230916T150000
DTSTAMP:20260423T172700
CREATED:20230808T012039Z
LAST-MODIFIED:20230808T012039Z
UID:17207-1694854800-1694876400@www.surflifesaving.com.au
SUMMARY:Beach Flag & Sprint Training Day at Wanda SLSC
DESCRIPTION:Wanda SLSC invites beach competitors from U12 – Open to join them at their inaugural Beach Flag & Sprint Training Day. The day is set to be full of round robin activities including: \n\nBeach flag technique & turns\nVideo footage & motivation\nExplosive power\nBaton changes\nFitness/Workout/Boxercise\nBeach sprint starts & technique\nStretching techniques\n\nEvent Details\nDate: 16 September 2023\nLocation: Wanda SLSC\nEntries: Email interest to clubhouse@wandaslsc.com.au
URL:https://www.surflifesaving.com.au/event/beach-flag-sprint-training-day-at-wanda-slsc/
LOCATION:Wanda Surf Life Saving Club\, 2 Marine Esplanade\, Cronulla\, NSW\, 2230\, Australia
CATEGORIES:Beach Event,Club Event
ATTACH;FMTTYPE=image/jpeg:https://www.surflifesaving.com.au/wp-content/uploads/sites/2/2023/08/463A7575_Nth-Bondi_Wanda-1-scaled.jpg
END:VEVENT
BEGIN:VEVENT
DTSTART;VALUE=DATE:20231209
DTEND;VALUE=DATE:20231210
DTSTAMP:20260423T172700
CREATED:20230807T052913Z
LAST-MODIFIED:20231205T023633Z
UID:17205-1702080000-1702166399@www.surflifesaving.com.au
SUMMARY:2023 Beach Stormers Series
DESCRIPTION:Surf Life Saving NSW is excited to confirm the following rounds\, dates\, and venues for the 2023 NSW Beach Stormers Series. \nRound 1: North Steyne SLSC\, 21 October 2023\nRound 2: Coogee SLSC\, 4 November 2023\nRound 3: Merewether SLSC\, 18 November 2023\nRound 4: North Cronulla SLSC\, 9 December 2023
URL:https://www.surflifesaving.com.au/event/2023-beach-stormers-series/
LOCATION:North Cronulla Surf Life Saving Club\, Dunningham Park\, Kingsway\, Cronulla\, NSW\, 2230\, Australia
CATEGORIES:Beach Event,SLSNSW Event
ATTACH;FMTTYPE=image/jpeg:https://www.surflifesaving.com.au/wp-content/uploads/sites/2/2023/08/Untitled-design-2023-08-24T104932.704.jpg
ORGANIZER;CN="SLSNSW Surf Sports Team":MAILTO:surfsports@surflifesaving.com.au
END:VEVENT
BEGIN:VEVENT
DTSTART;VALUE=DATE:20240126
DTEND;VALUE=DATE:20240129
DTSTAMP:20260423T172700
CREATED:20230829T003558Z
LAST-MODIFIED:20240207T035653Z
UID:17310-1706227200-1706486399@www.surflifesaving.com.au
SUMMARY:2024 Oakberry Acai NSW Country Championships
DESCRIPTION:Showcasing athletes from the 6 country branches across NSW\, the 2024 Oakberry Acai NSW Country Championships will be held at Warilla Barrack Point SLSC on the 26-28 January 2024. \n 
URL:https://www.surflifesaving.com.au/event/2024-oakberry-acai-nsw-country-championships/
LOCATION:Warilla Barrack Point SLSC\, 7b Osborne Parade\, Warilla\, NSW\, 2528\, Australia
CATEGORIES:Beach Event,SLSNSW Event,Sport,Water Event
ATTACH;FMTTYPE=image/jpeg:https://www.surflifesaving.com.au/wp-content/uploads/sites/2/2023/08/CCWebsiteEventPage_Untitled-design-2023-08-29T094616.621.jpg
ORGANIZER;CN="SLSNSW Surf Sports Team":MAILTO:surfsports@surflifesaving.com.au
END:VEVENT
BEGIN:VEVENT
DTSTART;VALUE=DATE:20240216
DTEND;VALUE=DATE:20240304
DTSTAMP:20260423T172700
CREATED:20240122T015136Z
LAST-MODIFIED:20240122T015136Z
UID:17932-1708041600-1709510399@www.surflifesaving.com.au
SUMMARY:Rainbow Beaches 2024
DESCRIPTION:From Feb 16th to March 3rd 2024\, a number of surf clubs across the state will be holding Rainbow Beach days. These events will feature a variety of activities to showcase that Surf Life Saving is for everyone and everyone is welcome at the beach. \nFor more information on this initiative and resources available\, check out the Lifesavers with Pride event page here \n 
URL:https://www.surflifesaving.com.au/event/rainbow-beaches-2024/
LOCATION:Various Surf Life Saving Clubs throughout NSW\, NSW\, Australia
CATEGORIES:Beach Event,Membership
ATTACH;FMTTYPE=image/jpeg:https://www.surflifesaving.com.au/wp-content/uploads/sites/2/2024/01/Screenshot-2024-01-22-124941.jpg
ORGANIZER;CN="Lifesavers with Pride":MAILTO:info@lifesaverswithpride.com.au
END:VEVENT
BEGIN:VEVENT
DTSTART;TZID=Australia/Sydney:20240301T080000
DTEND;TZID=Australia/Sydney:20240317T170000
DTSTAMP:20260423T172700
CREATED:20230824T235202Z
LAST-MODIFIED:20240315T061129Z
UID:17301-1709280000-1710694800@www.surflifesaving.com.au
SUMMARY:2024 NSW Surf Life Saving Championships\, proudly presented by Your local club
DESCRIPTION:dates are set for the 2024 NSW Surf Life Saving Championships\, proudly presented by Your local club. \n\n\n\nChampionships\nDate\nLocation\n\n\nChampion Lifesaver\n1-2 March\nFreshwater SLSC\n\n\nChampion Patrol\n3 March\nFreshwater SLSC\n\n\nFirst Aid Competition\n9-10 March\nFreshwater SLSC\n\n\nAge Champs\n7-10 March\nQueenscliff SLSC\n\n\nInclusive Champs\n10 March\nQueenscliff SLSC\n\n\nMasters Champs\n13-14 March\nQueenscliff SLSC\n\n\nOpen Champs\n15-17 March\nQueenscliff SLSC\n\n\nSurf Boats Champs\n15-17 March\nNorth Steyne SLSC\n\n\n\n 
URL:https://www.surflifesaving.com.au/event/2024-nsw-surf-life-saving-championships/
LOCATION:Queenscliff Surf Life Saving Club\, N Steyne & Collingwood St\, Manly\, NSW\, 2095\, Australia
CATEGORIES:Beach Event,Lifesaving,SLSNSW Event,Sport,Surf Boats,Water Event
ATTACH;FMTTYPE=image/jpeg:https://www.surflifesaving.com.au/wp-content/uploads/sites/2/2023/08/Untitled-design-2023-08-25T095528.621.jpg
ORGANIZER;CN="SLSNSW Surf Sports Team":MAILTO:surfsports@surflifesaving.com.au
END:VEVENT
BEGIN:VEVENT
DTSTART;VALUE=DATE:20241005
DTEND;VALUE=DATE:20241007
DTSTAMP:20260423T172700
CREATED:20240814T004853Z
LAST-MODIFIED:20240814T004853Z
UID:18899-1728086400-1728259199@www.surflifesaving.com.au
SUMMARY:2024 Professionals Weekend of Surf
DESCRIPTION:Forster SLSC’s Professionals Weekend of surf is back for another year. \nEvent details in the flyer below.
URL:https://www.surflifesaving.com.au/event/2024-professionals-weekend-of-surf/
LOCATION:Forster SLSC\, Beach Street\, Forster\, NSW\, 2428\, Australia
CATEGORIES:Beach Event,Club Event,Sport,Water Event
ATTACH;FMTTYPE=image/jpeg:https://www.surflifesaving.com.au/wp-content/uploads/sites/2/2021/10/GenericSport9_Banner.jpg
ORGANIZER;CN="Forster SLSC":MAILTO:sblee@westnet.com.au
END:VEVENT
BEGIN:VEVENT
DTSTART;VALUE=DATE:20250117
DTEND;VALUE=DATE:20250119
DTSTAMP:20260423T172700
CREATED:20240819T023307Z
LAST-MODIFIED:20250114T210914Z
UID:18916-1737072000-1737244799@www.surflifesaving.com.au
SUMMARY:2024/25 Beach Stormers Series
DESCRIPTION:The 2024/25 Beach Stormers Series is back. \nThis year’s series will consist of four rounds: \n\nRound One: North Steyne SLSC | 12 October 2024\nRound Two: Merewether SLSC | 9 November 2024\nRound Three: North Cronulla SLSC | 23 November 2024\nRound Four: Manly LSC | 17-18 January\n\nThe final round at Manly LSC will run in conjunction with the Manly Carnival.
URL:https://www.surflifesaving.com.au/event/2024-25-beach-stormers-series/
LOCATION:Manly Life Saving Club\, Ashburner St &\, S Steyne\, Manly\, NSW\, 2095\, Australia
CATEGORIES:Beach Event,SLSNSW Event,Sport
ATTACH;FMTTYPE=image/jpeg:https://www.surflifesaving.com.au/wp-content/uploads/sites/2/2024/08/017A6849-scaled.jpg
ORGANIZER;CN="SLSNSW Surf Sports Team":MAILTO:surfsports@surflifesaving.com.au
END:VEVENT
BEGIN:VEVENT
DTSTART;VALUE=DATE:20250124
DTEND;VALUE=DATE:20250127
DTSTAMP:20260423T172700
CREATED:20240813T045244Z
LAST-MODIFIED:20250128T223028Z
UID:18893-1737676800-1737935999@www.surflifesaving.com.au
SUMMARY:2025 NSW Country Championships
DESCRIPTION:The 2025 NSW Country Championships are heading back to Warilla Barrack Point from 24-26 January. Details coming soon!
URL:https://www.surflifesaving.com.au/event/2025-nsw-country-championships/
LOCATION:Warilla Barrack Point SLSC\, 7b Osborne Parade\, Warilla\, NSW\, 2528\, Australia
CATEGORIES:Beach Event,SLSNSW Event,Sport,Water Event
ATTACH;FMTTYPE=image/jpeg:https://www.surflifesaving.com.au/wp-content/uploads/sites/2/2024/08/017A3911-scaled.jpeg
ORGANIZER;CN="SLSNSW Surf Sports Team":MAILTO:surfsports@surflifesaving.com.au
END:VEVENT
BEGIN:VEVENT
DTSTART;TZID=Australia/Sydney:20250228T080000
DTEND;TZID=Australia/Sydney:20250316T170000
DTSTAMP:20260423T172700
CREATED:20240830T050757Z
LAST-MODIFIED:20250315T063106Z
UID:18987-1740729600-1742144400@www.surflifesaving.com.au
SUMMARY:2025 NSW Surf Life Saving Championships\, proudly presented by Your local club
DESCRIPTION:The 2025 SLSNSW Championship Committee    \n___________ \nDates are set for the 2025 NSW Surf Life Saving Championships\, proudly presented by Your local club. \n\n\n\nDate\nEvent\nLocation\n\n\n28 February – 2 March 2025\nLifesaving Championships (Champion Lifesaver & Champion Patrol)\nFreshwater SLSC\n\n\n8-9 March 2025\nLifesaving Championships (First Aid Competition)\nFreshwater SLSC\n\n\n6-9 March 2025\nAge Championships\nQueenscliff SLSC\n\n\n12-13 March 2025\nMasters Championships\nQueenscliff SLSC\n\n\n14-16 March 2025\nOpen & Surf Boat Championships\nQueenscliff SLSC
URL:https://www.surflifesaving.com.au/event/2025-nsw-surf-life-saving-championships-proudly-presented-by-your-local-club/
LOCATION:Queenscliff Surf Life Saving Club\, N Steyne & Collingwood St\, Manly\, NSW\, 2095\, Australia
CATEGORIES:Beach Event,Lifesaving,SLSNSW Event,Sport,Surf Boats,Water Event
ATTACH;FMTTYPE=image/jpeg:https://www.surflifesaving.com.au/wp-content/uploads/sites/2/2024/08/Untitled-design-65.jpg
ORGANIZER;CN="SLSNSW Surf Sports Team":MAILTO:surfsports@surflifesaving.com.au
END:VEVENT
BEGIN:VEVENT
DTSTART;VALUE=DATE:20260126
DTEND;VALUE=DATE:20260127
DTSTAMP:20260423T172700
CREATED:20250930T032244Z
LAST-MODIFIED:20260121T234923Z
UID:20531-1769385600-1769471999@www.surflifesaving.com.au
SUMMARY:2025/26 Beach Stormers Series
DESCRIPTION:The 2025/26 Beach Stormers Series is back. \nThis year’s series will consist of four rounds: \n\nRound One: North Steyne | 1 November\nRound Two: Avoca | 22 November\nRound Three: South Maroubra | 13 December\nRound Four: Manly & Wanda | 16-17 & 26 January
URL:https://www.surflifesaving.com.au/event/2025-26-beach-stormers-series/
LOCATION:Wanda Surf Life Saving Club\, 2 Marine Esplanade\, Cronulla\, NSW\, 2230\, Australia
CATEGORIES:Beach Event,Sport
ATTACH;FMTTYPE=image/jpeg:https://www.surflifesaving.com.au/wp-content/uploads/sites/2/2025/09/017A3394-2.jpg
ORGANIZER;CN="SLSNSW Surf Sports Team":MAILTO:surfsports@surflifesaving.com.au
END:VEVENT
BEGIN:VEVENT
DTSTART;VALUE=DATE:20270226
DTEND;VALUE=DATE:20270315
DTSTAMP:20260423T172700
CREATED:20260313T050354Z
LAST-MODIFIED:20260313T050354Z
UID:21344-1803600000-1805068799@www.surflifesaving.com.au
SUMMARY:2027 NSW Surf Life Saving Championships\, proudly presented by Your local club
DESCRIPTION:We’re excited to announce the dates for the 2027 NSW Surf Life Saving Championships\, proudly presented by Your local club. The Championships will return to Blacksmiths Beach from 26 February to 14 March\, with Swansea‑Belmont and Caves Beach SLSC once again hosting thousands of athletes\, volunteers and supporters for one of the biggest events on the surf sports calendar. \n  \nDRAFT PROGRAM 2027 \n\n\n\n\nDate \n\n\nEvent \n\n\nLocation \n\n\n\n\n26-28 February \n6-7 March \n\n\nLifesaving Championships \n\n\nCaves Beach SLSC \n\n\n\n\n26-28 February \n\n\nSurf Boat Championships \n\n\nSwansea-Belmont SLSC \n\n\n\n\n4-7 March \n\n\nAge Championships \n\n\nSwansea-Belmont SLSC \n\n\n\n\n7 March \n\n\nAdaptive Champs \n\n\nSwansea-Belmont SLSC \n\n\n\n\n10-11 March \n\n\nMasters Championships \n\n\nSwansea-Belmont SLSC \n\n\n\n\n12-14 March \n\n\nOpens Championships \n\n\nSwansea-Belmont SLSC \n\n\n\n\n 
URL:https://www.surflifesaving.com.au/event/2027-nsw-surf-life-saving-championships-proudly-presented-by-your-local-club/
LOCATION:Swansea Belmont Surf Life Saving Club\, 118 Ungala Rd\, Blacksmiths\, NSW\, 2281\, Australia
CATEGORIES:Beach Event,Lifesaving,SLSNSW Event,Sport,Surf Boats,Water Event
ATTACH;FMTTYPE=image/jpeg:https://www.surflifesaving.com.au/wp-content/uploads/sites/2/2026/03/2E4A4129.jpg
ORGANIZER;CN="SLSNSW Surf Sports Team":MAILTO:surfsports@surflifesaving.com.au
END:VEVENT
END:VCALENDAR