BEGIN:VCALENDAR
VERSION:2.0
PRODID:-//Surf Life Saving NSW - ECPv6.15.20//NONSGML v1.0//EN
CALSCALE:GREGORIAN
METHOD:PUBLISH
X-ORIGINAL-URL:https://www.surflifesaving.com.au
X-WR-CALDESC:Events for Surf Life Saving NSW
REFRESH-INTERVAL;VALUE=DURATION:PT1H
X-Robots-Tag:noindex
X-PUBLISHED-TTL:PT1H
BEGIN:VTIMEZONE
TZID:Australia/Sydney
BEGIN:STANDARD
TZOFFSETFROM:+1100
TZOFFSETTO:+1000
TZNAME:AEST
DTSTART:20210403T160000
END:STANDARD
BEGIN:DAYLIGHT
TZOFFSETFROM:+1000
TZOFFSETTO:+1100
TZNAME:AEDT
DTSTART:20211002T160000
END:DAYLIGHT
BEGIN:STANDARD
TZOFFSETFROM:+1100
TZOFFSETTO:+1000
TZNAME:AEST
DTSTART:20220402T160000
END:STANDARD
BEGIN:DAYLIGHT
TZOFFSETFROM:+1000
TZOFFSETTO:+1100
TZNAME:AEDT
DTSTART:20221001T160000
END:DAYLIGHT
BEGIN:STANDARD
TZOFFSETFROM:+1100
TZOFFSETTO:+1000
TZNAME:AEST
DTSTART:20230401T160000
END:STANDARD
BEGIN:DAYLIGHT
TZOFFSETFROM:+1000
TZOFFSETTO:+1100
TZNAME:AEDT
DTSTART:20230930T160000
END:DAYLIGHT
END:VTIMEZONE
BEGIN:VEVENT
DTSTART;VALUE=DATE:20221210
DTEND;VALUE=DATE:20221211
DTSTAMP:20260422T142325
CREATED:20221114T013146Z
LAST-MODIFIED:20221114T020512Z
UID:15910-1670630400-1670716799@www.surflifesaving.com.au
SUMMARY:SLSCC Surf Slam
DESCRIPTION:SLSCC is proud to announce the 1st annual Surf Slam carnival\, and to welcome clubs from all over NSW to Avoca Beach for the event. The carnival has over $7000.00 worth of cash and prizes to be won with the hallmark event being the Open Mixed Taplin Event. \nEvent Details\nLocation: Avoca SLSC\nDate: 10th of December 2022\nTime: 7:00am commencement for sign on. Marshalling at 7:45am. First event 8:00am
URL:https://www.surflifesaving.com.au/event/slscc-surf-slam/
LOCATION:Avoca Beach SLSC\, 10 Vine Street\, Avoca Beach\, NSW\, 2251\, Australia
CATEGORIES:Branch Event
ATTACH;FMTTYPE=image/jpeg:https://www.surflifesaving.com.au/wp-content/uploads/sites/2/2022/11/Screenshot-2022-11-14-130427.jpg
END:VEVENT
END:VCALENDAR