BEGIN:VCALENDAR
VERSION:2.0
PRODID:-//Surf Life Saving NSW - ECPv6.15.16//NONSGML v1.0//EN
CALSCALE:GREGORIAN
METHOD:PUBLISH
X-ORIGINAL-URL:https://www.surflifesaving.com.au
X-WR-CALDESC:Events for Surf Life Saving NSW
REFRESH-INTERVAL;VALUE=DURATION:PT1H
X-Robots-Tag:noindex
X-PUBLISHED-TTL:PT1H
BEGIN:VTIMEZONE
TZID:Australia/Sydney
BEGIN:STANDARD
TZOFFSETFROM:+1100
TZOFFSETTO:+1000
TZNAME:AEST
DTSTART:20230401T160000
END:STANDARD
BEGIN:DAYLIGHT
TZOFFSETFROM:+1000
TZOFFSETTO:+1100
TZNAME:AEDT
DTSTART:20230930T160000
END:DAYLIGHT
BEGIN:STANDARD
TZOFFSETFROM:+1100
TZOFFSETTO:+1000
TZNAME:AEST
DTSTART:20240406T160000
END:STANDARD
BEGIN:DAYLIGHT
TZOFFSETFROM:+1000
TZOFFSETTO:+1100
TZNAME:AEDT
DTSTART:20241005T160000
END:DAYLIGHT
BEGIN:STANDARD
TZOFFSETFROM:+1100
TZOFFSETTO:+1000
TZNAME:AEST
DTSTART:20250405T160000
END:STANDARD
BEGIN:DAYLIGHT
TZOFFSETFROM:+1000
TZOFFSETTO:+1100
TZNAME:AEDT
DTSTART:20251004T160000
END:DAYLIGHT
END:VTIMEZONE
BEGIN:VEVENT
DTSTART;TZID=Australia/Sydney:20240727T093000
DTEND;TZID=Australia/Sydney:20240728T130000
DTSTAMP:20260420T045422
CREATED:20240415T212722Z
LAST-MODIFIED:20240723T015903Z
UID:18335-1722072600-1722171600@www.surflifesaving.com.au
SUMMARY:2024 SLSNSW Lifesaving Conference
DESCRIPTION:Registrations have now closed for the SLSNSW Lifesaving Conference and we are looking forward to seeing hundreds of members in July.  If you are interested in joining the waitlist\, please contact Claire Bevis. \nTravel and Accommodation Subsidies \nDriving \nMembers driving to the conference from MNC\, LNC\, HUN\, CC\, SNB\, SYD\, ILL\, SC and FSC will be able to claim mileage subsidies (capped amounts dependent on location) by completing an expense claim form with the kilometres travelled.  These subsidy amounts are based on average mileage distances\, and are as follows: \n\nMNC: $450 (fuel)\nLNC: $420 (fuel)\nHUN: $320 (fuel)\nCC: $195 (fuel)\nSNB: $80 (fuel)\nSYD: $55 (fuel)\nILL: $120 (fuel)\nSC: $240 (fuel)\nFSC: $500 (fuel)\n\nParking will be available at the Stamford Plaza Hotel throughout the conference and will also be covered for the duration of your stay.  Please bring your parking ticket to the registration desk for validation prior to your departure. \nFlights \nFlights for members travelling to and from the conference will be subsidised.  Flights will need to be booked by the individual/club\, and an expense claim form submitted (with proof of purchase / ticket receipt).  Subsidy figures for each member are listed below and are based on average airline ticket prices.  Please note that ticket prices traditionally rise as the departure date nears.   \n\nFNC: $350 (flights)\nNC: $400 (flights)\nMNC: $450 (flights)\nLNC $450 (flights)\nFSC: $550 (flights)\n\nAirport Transfers \nMembers flying to the conference can arrive on Friday 26th July to ensure that they are ready for the conference start on Saturday morning. Members who choose to fly on Saturday 27th July will need to arrive prior to 8.30am as conference registration will take place between 8.30-9.30am. \nThe conference will end with lunch on Sunday 28th July\, and we recommend that return flights depart any time after 2.00pm. \nThis venue is a 1km walk or a short Taxi/Uber ride from the airport\, and reimbursements for transfers will be available. Please note there is no shuttle bus transfer. \nAccommodation \nDue to the recent availability of flights and ongoing flight delays and cancellations to and from Sydney\, the SLSNSW Board has approved for accommodation to be offered to members flying into Sydney for the conference on both Friday and Saturday. \nFriday and Saturday night accommodation is available to members from FNC\, NC\, MNC\, LNC\, HUN\, SC and FSC. \nSaturday night accommodation is available to members from CC and ILL. \nMembers from Sydney/Sydney Northern Beaches can choose to join the rest of the participants for breakfast on the Sunday morning from 7:00am.
URL:https://www.surflifesaving.com.au/event/2024-slsnsw-lifesaving-conference/
LOCATION:Stamford Plaza Sydney Airport\, 241 O'Riordan Street\, Mascot\, NSW\, 2020
CATEGORIES:Membership
ATTACH;FMTTYPE=image/jpeg:https://www.surflifesaving.com.au/wp-content/uploads/sites/2/2024/04/Web-banner_800x450-scaled.jpg
ORGANIZER;CN="Claire Bevis":MAILTO:cbevis@surflifesaving.com.au
END:VEVENT
END:VCALENDAR