BEGIN:VCALENDAR
VERSION:2.0
PRODID:-//Surf Life Saving NSW - ECPv6.15.16//NONSGML v1.0//EN
CALSCALE:GREGORIAN
METHOD:PUBLISH
X-WR-CALNAME:Surf Life Saving NSW
X-ORIGINAL-URL:https://www.surflifesaving.com.au
X-WR-CALDESC:Events for Surf Life Saving NSW
REFRESH-INTERVAL;VALUE=DURATION:PT1H
X-Robots-Tag:noindex
X-PUBLISHED-TTL:PT1H
BEGIN:VTIMEZONE
TZID:Australia/Sydney
BEGIN:STANDARD
TZOFFSETFROM:+1100
TZOFFSETTO:+1000
TZNAME:AEST
DTSTART:20220402T160000
END:STANDARD
BEGIN:DAYLIGHT
TZOFFSETFROM:+1000
TZOFFSETTO:+1100
TZNAME:AEDT
DTSTART:20221001T160000
END:DAYLIGHT
BEGIN:STANDARD
TZOFFSETFROM:+1100
TZOFFSETTO:+1000
TZNAME:AEST
DTSTART:20230401T160000
END:STANDARD
BEGIN:DAYLIGHT
TZOFFSETFROM:+1000
TZOFFSETTO:+1100
TZNAME:AEDT
DTSTART:20230930T160000
END:DAYLIGHT
BEGIN:STANDARD
TZOFFSETFROM:+1100
TZOFFSETTO:+1000
TZNAME:AEST
DTSTART:20240406T160000
END:STANDARD
BEGIN:DAYLIGHT
TZOFFSETFROM:+1000
TZOFFSETTO:+1100
TZNAME:AEDT
DTSTART:20241005T160000
END:DAYLIGHT
END:VTIMEZONE
BEGIN:VEVENT
DTSTART;TZID=Australia/Sydney:20230826T180000
DTEND;TZID=Australia/Sydney:20230826T230000
DTSTAMP:20260421T000731
CREATED:20230710T004331Z
LAST-MODIFIED:20230807T010653Z
UID:17052-1693072800-1693090800@www.surflifesaving.com.au
SUMMARY:2023 SLSNSW Awards of Excellence
DESCRIPTION:The Surf Life Saving NSW Awards of Excellence celebrates the incredible people in our organisation and the impact they have on their clubs\, fellow members\, and in their local communities. With 21 awards on offer at this year’s celebrations\, finalists from across the state will be recognised for their commitment\, passion\, and hard work. \n  \nThanks to our Premium Sponsor D1 Store for their support of the 2023 Awards of Excellence. \n \n  \nEvent Details  \nVenue: Sofitel Sydney Wentworth\, 61-101 Phillip Street Sydney \nDate: Saturday 26th August 2023  \nTime: Doors open at 6:00pm with proceedings starting at 6:30pm sharp  \nDress code: Cocktail  \n  \nTicketing  \nMembers can purchase tickets via Try Booking using a credit card or PayPal account.    \nEach ticket includes a three-course meal and drinks package including beer\, wine and soft drink.    \nGet tickets here.   \nIndividual tickets – $125.00   \nGroup of 10 tickets – $1\,200.00   \nClubs or Branches who wish to be invoiced for the cost of tickets can contact Jordan Ingham-Rhodes on 9471 8000 or memberservices@surflifesaving.com.au  \nTicket cancellation or names changes can only be made before 11th August 2023. After this date no refund or changes can be made. Please contact the SLSNSW Membership Team at memberservices@surflifesaving.com.au should you require any support.   \n  \nAccommodation \nThe following hotels are located close to the venue. For budget friendly accommodation that is also central to bus and train services we recommend The Mercure Sydney Wynyard.   \n  \nSofitel Sydney Wentworth  \nPh: 02 9228 9188   \nE:  h3665@sofitel.com  \nW: https://www.sofitelsydney.com.au/   \nCode offer: 10% off for attendees when booking via phone or email quoting the code SLS260823. \n  \nThe Tank Stream Hotel   \nPh: (02) 8222 1200  \nW: https://www.stgileshotels.com/the-tank-stream  \n  \nThe Grand Hotel  \nPh: (02) 9114 7318  \nE: thegrand@merivale.com   \nW: https://merivale.com/stay/thegrandhotel/  \n  \nParking  \nParking for Sofitel Sydney Wentworth is located off Bligh Street and is operated by Wilson Car Parking\, with an entry height of 2.10m. Details on costs can be found here.    \nOther parking stations available nearby:   \n\nSecure Parking Aurora Place: 100 Phillip Street\, Sydney NSW 2000.  \n\n\nWilson Parking Chifley Tower: 2 Chifley Square\, Sydney NSW 2000 
URL:https://www.surflifesaving.com.au/event/2023-slsnsw-awards-of-excellence/
LOCATION:Sofitel Sydney Wentworth\, 61-101 Phillip Street\, Sydney\, NSW\, 2000\, Australia
CATEGORIES:Membership,SLSNSW Event
ATTACH;FMTTYPE=image/jpeg:https://www.surflifesaving.com.au/wp-content/uploads/sites/2/2023/07/Try-Booking-Banner.jpg
ORGANIZER;CN="SLSNSW Membership Team":MAILTO:Cbevis@surflifesaving.com.au
END:VEVENT
END:VCALENDAR