BEGIN:VCALENDAR
VERSION:2.0
PRODID:-//Surf Life Saving NSW - ECPv6.15.20//NONSGML v1.0//EN
CALSCALE:GREGORIAN
METHOD:PUBLISH
X-ORIGINAL-URL:https://www.surflifesaving.com.au
X-WR-CALDESC:Events for Surf Life Saving NSW
REFRESH-INTERVAL;VALUE=DURATION:PT1H
X-Robots-Tag:noindex
X-PUBLISHED-TTL:PT1H
BEGIN:VTIMEZONE
TZID:Australia/Sydney
BEGIN:STANDARD
TZOFFSETFROM:+1100
TZOFFSETTO:+1000
TZNAME:AEST
DTSTART:20220402T160000
END:STANDARD
BEGIN:DAYLIGHT
TZOFFSETFROM:+1000
TZOFFSETTO:+1100
TZNAME:AEDT
DTSTART:20221001T160000
END:DAYLIGHT
BEGIN:STANDARD
TZOFFSETFROM:+1100
TZOFFSETTO:+1000
TZNAME:AEST
DTSTART:20230401T160000
END:STANDARD
BEGIN:DAYLIGHT
TZOFFSETFROM:+1000
TZOFFSETTO:+1100
TZNAME:AEDT
DTSTART:20230930T160000
END:DAYLIGHT
BEGIN:STANDARD
TZOFFSETFROM:+1100
TZOFFSETTO:+1000
TZNAME:AEST
DTSTART:20240406T160000
END:STANDARD
BEGIN:DAYLIGHT
TZOFFSETFROM:+1000
TZOFFSETTO:+1100
TZNAME:AEDT
DTSTART:20241005T160000
END:DAYLIGHT
END:VTIMEZONE
BEGIN:VEVENT
DTSTART;VALUE=DATE:20230401
DTEND;VALUE=DATE:20230402
DTSTAMP:20260423T085454
CREATED:20230314T052702Z
LAST-MODIFIED:20230314T052702Z
UID:16572-1680307200-1680393599@www.surflifesaving.com.au
SUMMARY:The Dorsal Club to Club Ocean Swim
DESCRIPTION:The Dorsal Club to Club Ocean Swim is back for another year. \nThe 3.8km ocean swim begins at Cape Hawke SLSC and finishes at Forster Main Beach. For those looking for a smaller course\, there is also a 5oom and 250m swim available at Forster Main Beach. \nEntries close midday Saturday 1 April.
URL:https://www.surflifesaving.com.au/event/the-dorsal-club-to-club-ocean-swim/
LOCATION:Forster SLSC\, Beach Street\, Forster\, NSW\, 2428\, Australia
CATEGORIES:Club Event,Sport
ATTACH;FMTTYPE=image/png:https://www.surflifesaving.com.au/wp-content/uploads/sites/2/2023/03/Untitled-design-2023-03-14T162326.273.png
ORGANIZER;CN="Forster SLSC":MAILTO:sblee@westnet.com.au
END:VEVENT
END:VCALENDAR