BEGIN:VCALENDAR
VERSION:2.0
PRODID:-//Surf Life Saving NSW - ECPv6.15.20//NONSGML v1.0//EN
CALSCALE:GREGORIAN
METHOD:PUBLISH
X-WR-CALNAME:Surf Life Saving NSW
X-ORIGINAL-URL:https://www.surflifesaving.com.au
X-WR-CALDESC:Events for Surf Life Saving NSW
REFRESH-INTERVAL;VALUE=DURATION:PT1H
X-Robots-Tag:noindex
X-PUBLISHED-TTL:PT1H
BEGIN:VTIMEZONE
TZID:Australia/Sydney
BEGIN:STANDARD
TZOFFSETFROM:+1100
TZOFFSETTO:+1000
TZNAME:AEST
DTSTART:20220402T160000
END:STANDARD
BEGIN:DAYLIGHT
TZOFFSETFROM:+1000
TZOFFSETTO:+1100
TZNAME:AEDT
DTSTART:20221001T160000
END:DAYLIGHT
BEGIN:STANDARD
TZOFFSETFROM:+1100
TZOFFSETTO:+1000
TZNAME:AEST
DTSTART:20230401T160000
END:STANDARD
BEGIN:DAYLIGHT
TZOFFSETFROM:+1000
TZOFFSETTO:+1100
TZNAME:AEDT
DTSTART:20230930T160000
END:DAYLIGHT
BEGIN:STANDARD
TZOFFSETFROM:+1100
TZOFFSETTO:+1000
TZNAME:AEST
DTSTART:20240406T160000
END:STANDARD
BEGIN:DAYLIGHT
TZOFFSETFROM:+1000
TZOFFSETTO:+1100
TZNAME:AEDT
DTSTART:20241005T160000
END:DAYLIGHT
END:VTIMEZONE
BEGIN:VEVENT
DTSTART;VALUE=DATE:20231007
DTEND;VALUE=DATE:20231008
DTSTAMP:20260422T052652
CREATED:20230913T015813Z
LAST-MODIFIED:20230913T020427Z
UID:17387-1696636800-1696723199@www.surflifesaving.com.au
SUMMARY:Infront Board Bash
DESCRIPTION:Surf Life Sydney are bringing the Infront Board Bash to Cronulla SLSC! \nThe Infront Board Bash is a board only carnival for U11-U13’s that consists of three events; Enduro\, Standard Course & Dash to Beach. \nEvent Details \nDate: Saturday 7 October\nLocation: Cronulla SLSC\nEntries: Please enter via SEMS before Tuesday 3 October 
URL:https://www.surflifesaving.com.au/event/infront-board-bash/
LOCATION:Cronulla Surf Life Saving Club\, 36a Geralle Street\, Cronulla\, NSW\, 2230\, Australia
CATEGORIES:Branch Event
ATTACH;FMTTYPE=image/jpeg:https://www.surflifesaving.com.au/wp-content/uploads/sites/2/2023/09/Screenshot-2023-09-13-120351.jpg
END:VEVENT
BEGIN:VEVENT
DTSTART;TZID=Australia/Sydney:20231021T080000
DTEND;TZID=Australia/Sydney:20231125T170000
DTSTAMP:20260422T052652
CREATED:20230927T012703Z
LAST-MODIFIED:20230927T012703Z
UID:17449-1697875200-1700931600@www.surflifesaving.com.au
SUMMARY:Sydney Water Series
DESCRIPTION:The Sydney Water Series is back for another year! \nDates and Locations \nRound 1: Saturday 21 October – Warilla Barrack Point SLSC\nRound 2: Saturday 4 November – Kiama Downs SLSC\nRound 3: Saturday 18 – Sunday 19 November – Bulli SLSC\nRound 4: Saturday 25 November – Wollongong SLSC \n 
URL:https://www.surflifesaving.com.au/event/sydney-water-series/
LOCATION:Various
CATEGORIES:Club Event
ATTACH;FMTTYPE=image/jpeg:https://www.surflifesaving.com.au/wp-content/uploads/sites/2/2023/09/Screenshot-2023-09-27-112603.jpg
ORGANIZER;CN="Surf Life Saving Illawarra":MAILTO:office@slsillawarra.com.au
END:VEVENT
BEGIN:VEVENT
DTSTART;VALUE=DATE:20231028
DTEND;VALUE=DATE:20231029
DTSTAMP:20260422T052652
CREATED:20230824T000053Z
LAST-MODIFIED:20230913T051231Z
UID:17292-1698451200-1698537599@www.surflifesaving.com.au
SUMMARY:Tradies One Club Surf Carnival
DESCRIPTION:Wanda SLSC presents its 7th annual Tradies One Club Surf Carnival \nCash and prizes on offer\, including an Infront Nipper Board and many lucky draw prizes to be WON! \nEntries\nClubs are to submit entries online via sems.sls.com.au by midnight Wednesday 18 October 2023.
URL:https://www.surflifesaving.com.au/event/tradies-one-club-surf-carnival/
LOCATION:Wanda Surf Life Saving Club\, 2 Marine Esplanade\, Cronulla\, NSW\, 2230\, Australia
CATEGORIES:Club Event
ATTACH;FMTTYPE=image/jpeg:https://www.surflifesaving.com.au/wp-content/uploads/sites/2/2023/08/WebsiteFeaturedImage.jpg
END:VEVENT
BEGIN:VEVENT
DTSTART;VALUE=DATE:20231029
DTEND;VALUE=DATE:20231030
DTSTAMP:20260422T052652
CREATED:20220927T000441Z
LAST-MODIFIED:20231010T215747Z
UID:15668-1698537600-1698623999@www.surflifesaving.com.au
SUMMARY:Dean Mercer Dash
DESCRIPTION:The “Dean Mercer Dash”  is back for another year. \nIt is an endurance board paddle event in honour of Thirroul SLSC Life Member Dean Mercer OAM and is open to competitors U14 and up. Entries via sems close Wednesday 25 October.
URL:https://www.surflifesaving.com.au/event/dean-mercer-dash/
LOCATION:Thirroul SLSC\, The Esplanade\, Thirroul\, NSW\, 2515\, Australia
CATEGORIES:Club Event,Water Event
ATTACH;FMTTYPE=image/jpeg:https://www.surflifesaving.com.au/wp-content/uploads/sites/2/2022/09/Screenshot-2022-09-27-095739.jpg
END:VEVENT
END:VCALENDAR