BEGIN:VCALENDAR
VERSION:2.0
PRODID:-//Surf Life Saving NSW - ECPv6.15.20//NONSGML v1.0//EN
CALSCALE:GREGORIAN
METHOD:PUBLISH
X-ORIGINAL-URL:https://www.surflifesaving.com.au
X-WR-CALDESC:Events for Surf Life Saving NSW
REFRESH-INTERVAL;VALUE=DURATION:PT1H
X-Robots-Tag:noindex
X-PUBLISHED-TTL:PT1H
BEGIN:VTIMEZONE
TZID:Australia/Sydney
BEGIN:STANDARD
TZOFFSETFROM:+1100
TZOFFSETTO:+1000
TZNAME:AEST
DTSTART:20220402T160000
END:STANDARD
BEGIN:DAYLIGHT
TZOFFSETFROM:+1000
TZOFFSETTO:+1100
TZNAME:AEDT
DTSTART:20221001T160000
END:DAYLIGHT
BEGIN:STANDARD
TZOFFSETFROM:+1100
TZOFFSETTO:+1000
TZNAME:AEST
DTSTART:20230401T160000
END:STANDARD
BEGIN:DAYLIGHT
TZOFFSETFROM:+1000
TZOFFSETTO:+1100
TZNAME:AEDT
DTSTART:20230930T160000
END:DAYLIGHT
BEGIN:STANDARD
TZOFFSETFROM:+1100
TZOFFSETTO:+1000
TZNAME:AEST
DTSTART:20240406T160000
END:STANDARD
BEGIN:DAYLIGHT
TZOFFSETFROM:+1000
TZOFFSETTO:+1100
TZNAME:AEDT
DTSTART:20241005T160000
END:DAYLIGHT
END:VTIMEZONE
BEGIN:VEVENT
DTSTART;TZID=Australia/Sydney:20231021T080000
DTEND;TZID=Australia/Sydney:20231125T170000
DTSTAMP:20260422T035202
CREATED:20230927T012703Z
LAST-MODIFIED:20230927T012703Z
UID:17449-1697875200-1700931600@www.surflifesaving.com.au
SUMMARY:Sydney Water Series
DESCRIPTION:The Sydney Water Series is back for another year! \nDates and Locations \nRound 1: Saturday 21 October – Warilla Barrack Point SLSC\nRound 2: Saturday 4 November – Kiama Downs SLSC\nRound 3: Saturday 18 – Sunday 19 November – Bulli SLSC\nRound 4: Saturday 25 November – Wollongong SLSC \n 
URL:https://www.surflifesaving.com.au/event/sydney-water-series/
LOCATION:Various
CATEGORIES:Club Event
ATTACH;FMTTYPE=image/jpeg:https://www.surflifesaving.com.au/wp-content/uploads/sites/2/2023/09/Screenshot-2023-09-27-112603.jpg
ORGANIZER;CN="Surf Life Saving Illawarra":MAILTO:office@slsillawarra.com.au
END:VEVENT
BEGIN:VEVENT
DTSTART;VALUE=DATE:20231105
DTEND;VALUE=DATE:20231106
DTSTAMP:20260422T035202
CREATED:20231024T232737Z
LAST-MODIFIED:20231024T232737Z
UID:17561-1699142400-1699228799@www.surflifesaving.com.au
SUMMARY:Kracka Challenge 2023
DESCRIPTION:The iconic Kracka Challenge\, hosted by Swansea Belmont SLSC\, is back for 2023. \nOpen to competitors from U9s to U17s with Ironperson\, Board and Dash for Cash Swims.  Always a great day of racing with over $8\,000 worth of prizes up for grabs. Entries close 27 October. Enter via raceroster.com
URL:https://www.surflifesaving.com.au/event/kracka-challenge-2023/
LOCATION:Swansea Belmont Surf Life Saving Club\, 118 Ungala Rd\, Blacksmiths\, NSW\, 2281\, Australia
CATEGORIES:Club Event,Water Event
ATTACH;FMTTYPE=image/jpeg:https://www.surflifesaving.com.au/wp-content/uploads/sites/2/2023/10/Kracka-Challenge-2023-Swansea-Belmont-SLSC.jpg
END:VEVENT
BEGIN:VEVENT
DTSTART;VALUE=DATE:20231111
DTEND;VALUE=DATE:20231112
DTSTAMP:20260422T035202
CREATED:20231031T221353Z
LAST-MODIFIED:20231031T221353Z
UID:17591-1699660800-1699747199@www.surflifesaving.com.au
SUMMARY:South Maroubra U8 Nipper Carnival 2023
DESCRIPTION:South Maroubra SLSC is hosting their U8 Nipper Carnival on Saturday 11 November. \nEntries are open via sems and close 7 November.
URL:https://www.surflifesaving.com.au/event/south-maroubra-u8-nipper-carnival-2023/
LOCATION:South Maroubra SLSC\, Arthur Byrne Reserve\, 1R Marine Parade\, Maroubra\, NSW\, 2035\, Australia
CATEGORIES:Club Event
ATTACH;FMTTYPE=image/jpeg:https://www.surflifesaving.com.au/wp-content/uploads/sites/2/2023/11/Screenshot-2023-11-01-091005.jpg
ORGANIZER;CN="South Maroubra SLSC":MAILTO:office@southmaroubrasurfclub.com.au
END:VEVENT
BEGIN:VEVENT
DTSTART;TZID=Australia/Sydney:20231111T080000
DTEND;TZID=Australia/Sydney:20231112T170000
DTSTAMP:20260422T035202
CREATED:20231010T225642Z
LAST-MODIFIED:20231010T225642Z
UID:17504-1699689600-1699808400@www.surflifesaving.com.au
SUMMARY:2023/24 Nutri-Grain IronMan/IronWoman Series Trial
DESCRIPTION:The 2023/24 Nutri-Grain IronMan/IronWoman Series Trial will be held at Tugun SLSC\, QLD on 11-12 November. \nEntries for the Trial of the Nutri-Grain IronMan/IronWoman Series close at 5pm\, Wednesday\, 1 November 2023. No entries will be accepted after this date or on the day of competition. More information on wildcards and athlete information can be found below.
URL:https://www.surflifesaving.com.au/event/2023-24-nutri-grain-ironman-ironwoman-series-trial/
LOCATION:Tugun SLSC\, 29 Oconnor Street\, Tugun\, QLD\, 4224\, Australia
CATEGORIES:SLSA Event
ATTACH;FMTTYPE=image/jpeg:https://www.surflifesaving.com.au/wp-content/uploads/sites/2/2023/10/Screenshot-2023-10-11-095518.jpg
END:VEVENT
BEGIN:VEVENT
DTSTART;VALUE=DATE:20231118
DTEND;VALUE=DATE:20231119
DTSTAMP:20260422T035202
CREATED:20231031T225403Z
LAST-MODIFIED:20231031T225403Z
UID:17596-1700265600-1700351999@www.surflifesaving.com.au
SUMMARY:10th Annual Cronulla SLSC Short Course Carnival
DESCRIPTION:The annual Cronulla Short Course Carnival is back for its 10th year. \nA true all age carnival for Open\, Juniors and Masters + an inclusive events program.
URL:https://www.surflifesaving.com.au/event/10th-annual-cronulla-slsc-short-course-carnival/
LOCATION:Cronulla Surf Life Saving Club\, 36a Geralle Street\, Cronulla\, NSW\, 2230\, Australia
CATEGORIES:Club Event
ATTACH;FMTTYPE=image/jpeg:https://www.surflifesaving.com.au/wp-content/uploads/sites/2/2023/11/Screenshot-2023-11-01-095008.jpg
END:VEVENT
BEGIN:VEVENT
DTSTART;VALUE=DATE:20231125
DTEND;VALUE=DATE:20231126
DTSTAMP:20260422T035202
CREATED:20230920T012028Z
LAST-MODIFIED:20231108T052411Z
UID:17418-1700870400-1700956799@www.surflifesaving.com.au
SUMMARY:Coffs Craft Carnival
DESCRIPTION:Coffs Harbour SLSC is excited to be holding the 50th Coffs Craft Carnival. \nThe carnival includes Board\, Ski and Iron events. All entries must be entered via sems\, and marshalling will begin 7:30am.
URL:https://www.surflifesaving.com.au/event/coffs-craft-carnival/
LOCATION:Coffs Harbour SLSC\, 23 Surf Club Road\, Coffs Harbour\, NSW\, 2450\, Australia
CATEGORIES:Club Event
ORGANIZER;CN="Coffs Harbour SLSC":MAILTO:info@coffsharboursurfclub.com.au
END:VEVENT
BEGIN:VEVENT
DTSTART;TZID=Australia/Sydney:20231126T073000
DTEND;TZID=Australia/Sydney:20231126T120000
DTSTAMP:20260422T035202
CREATED:20230208T004706Z
LAST-MODIFIED:20230208T004706Z
UID:16354-1700983800-1701000000@www.surflifesaving.com.au
SUMMARY:Coogee Island Challenge Ocean Swim
DESCRIPTION:The Coogee Island Challenge spring edition is the first ‘cut of the cake’ for swimmers looking to take on this epic island journey swim\, with its autumn equivalent having been held in April. \nA Swimmers Sanctuary – The waters off Wedding Cake Island are a swimmer’s sanctuary. On an ideal calm morning\, clarity around the Island can provide a sensory overload\, with hours to be spent exploring an abundance of sea life and rock formations. The event offers three ocean swim distances\, an 800m Junior Dash and a 1km course in the relative safety of the bay\, and the 2.4km main event\, the later two distances for swimmers aged 13 years and over.
URL:https://www.surflifesaving.com.au/event/coogee-island-challenge-ocean-swim-2/
LOCATION:Coogee Beach\, Coogee\, NSW\, 2034\, Australia
CATEGORIES:Club Event
ATTACH;FMTTYPE=image/jpeg:https://www.surflifesaving.com.au/wp-content/uploads/sites/2/2023/02/CIC-SLSNSW.jpg
ORGANIZER;CN="Coogee SLSC Ocean Events":MAILTO:oceanevents@coogeeslsc.com.au
END:VEVENT
END:VCALENDAR