BEGIN:VCALENDAR
VERSION:2.0
PRODID:-//Surf Life Saving NSW - ECPv6.15.20//NONSGML v1.0//EN
CALSCALE:GREGORIAN
METHOD:PUBLISH
X-WR-CALNAME:Surf Life Saving NSW
X-ORIGINAL-URL:https://www.surflifesaving.com.au
X-WR-CALDESC:Events for Surf Life Saving NSW
REFRESH-INTERVAL;VALUE=DURATION:PT1H
X-Robots-Tag:noindex
X-PUBLISHED-TTL:PT1H
BEGIN:VTIMEZONE
TZID:Australia/Sydney
BEGIN:STANDARD
TZOFFSETFROM:+1100
TZOFFSETTO:+1000
TZNAME:AEST
DTSTART:20220402T160000
END:STANDARD
BEGIN:DAYLIGHT
TZOFFSETFROM:+1000
TZOFFSETTO:+1100
TZNAME:AEDT
DTSTART:20221001T160000
END:DAYLIGHT
BEGIN:STANDARD
TZOFFSETFROM:+1100
TZOFFSETTO:+1000
TZNAME:AEST
DTSTART:20230401T160000
END:STANDARD
BEGIN:DAYLIGHT
TZOFFSETFROM:+1000
TZOFFSETTO:+1100
TZNAME:AEDT
DTSTART:20230930T160000
END:DAYLIGHT
BEGIN:STANDARD
TZOFFSETFROM:+1100
TZOFFSETTO:+1000
TZNAME:AEST
DTSTART:20240406T160000
END:STANDARD
BEGIN:DAYLIGHT
TZOFFSETFROM:+1000
TZOFFSETTO:+1100
TZNAME:AEDT
DTSTART:20241005T160000
END:DAYLIGHT
END:VTIMEZONE
BEGIN:VEVENT
DTSTART;VALUE=DATE:20231202
DTEND;VALUE=DATE:20231204
DTSTAMP:20260422T021814
CREATED:20230802T021653Z
LAST-MODIFIED:20231127T220046Z
UID:17163-1701475200-1701647999@www.surflifesaving.com.au
SUMMARY:2023 NSW Interbranch Championships
DESCRIPTION:Surf Life Saving NSW are delighted to announce the 2023 NSW Interbranch Championships will be hosted by Hunter Branch at Fingal Beach SLSC. \nThe Championships will be held on 2 – 3 December\, 2023.
URL:https://www.surflifesaving.com.au/event/2023-nsw-interbranch-championships/
LOCATION:Fingal Beach SLSC\, 3 Marine Drive\, Fingal Bay\, NSW\, 2315\, Australia
CATEGORIES:SLSNSW Event,Sport,Water Event
ATTACH;FMTTYPE=image/jpeg:https://www.surflifesaving.com.au/wp-content/uploads/sites/2/2023/08/Hunter_SydneyNorthernBeaches_Sydney.jpg
ORGANIZER;CN="SLSNSW Surf Sports Team":MAILTO:surfsports@surflifesaving.com.au
END:VEVENT
BEGIN:VEVENT
DTSTART;VALUE=DATE:20231209
DTEND;VALUE=DATE:20231210
DTSTAMP:20260422T021814
CREATED:20230807T052913Z
LAST-MODIFIED:20231205T023633Z
UID:17205-1702080000-1702166399@www.surflifesaving.com.au
SUMMARY:2023 Beach Stormers Series
DESCRIPTION:Surf Life Saving NSW is excited to confirm the following rounds\, dates\, and venues for the 2023 NSW Beach Stormers Series. \nRound 1: North Steyne SLSC\, 21 October 2023\nRound 2: Coogee SLSC\, 4 November 2023\nRound 3: Merewether SLSC\, 18 November 2023\nRound 4: North Cronulla SLSC\, 9 December 2023
URL:https://www.surflifesaving.com.au/event/2023-beach-stormers-series/
LOCATION:North Cronulla Surf Life Saving Club\, Dunningham Park\, Kingsway\, Cronulla\, NSW\, 2230\, Australia
CATEGORIES:Beach Event,SLSNSW Event
ATTACH;FMTTYPE=image/jpeg:https://www.surflifesaving.com.au/wp-content/uploads/sites/2/2023/08/Untitled-design-2023-08-24T104932.704.jpg
ORGANIZER;CN="SLSNSW Surf Sports Team":MAILTO:surfsports@surflifesaving.com.au
END:VEVENT
BEGIN:VEVENT
DTSTART;VALUE=DATE:20231209
DTEND;VALUE=DATE:20231210
DTSTAMP:20260422T021814
CREATED:20231114T112115Z
LAST-MODIFIED:20231114T112115Z
UID:17654-1702080000-1702166399@www.surflifesaving.com.au
SUMMARY:Surf Life Saving Central Coast Infront Surf Slam
DESCRIPTION:Surf Life Saving Central Coast is proud to announce the 2nd annual ‘SLSCC Infront Surf Slam’ carnival. The carnival has $8100 worth of\ncash and prizes to be won with the hallmark event being the Open Mixed Taplin Event. \nAll entries submitted via sems. Entries close 9am 6 December.
URL:https://www.surflifesaving.com.au/event/surf-life-saving-central-coast-infront-surf-slam/
LOCATION:Avoca Beach SLSC\, 10 Vine Street\, Avoca Beach\, NSW\, 2251\, Australia
CATEGORIES:Branch Event
ATTACH;FMTTYPE=image/jpeg:https://www.surflifesaving.com.au/wp-content/uploads/sites/2/2023/11/Screenshot-2023-11-14-221920.jpg
END:VEVENT
BEGIN:VEVENT
DTSTART;VALUE=DATE:20231216
DTEND;VALUE=DATE:20231218
DTSTAMP:20260422T021814
CREATED:20231128T220532Z
LAST-MODIFIED:20231128T220532Z
UID:17742-1702684800-1702857599@www.surflifesaving.com.au
SUMMARY:North Cronulla Christmas Surf Boats Carnival 2023
DESCRIPTION:North Cronulla are hosting a Christmas Surf Boats Carnival on 16-17 December. \nEntry and event info can be found in the flyer below. Entries close Wednesday 13 December.
URL:https://www.surflifesaving.com.au/event/north-cronulla-christmas-surf-boats-carnival-2023/
LOCATION:North Cronulla Surf Life Saving Club\, Dunningham Park\, Kingsway\, Cronulla\, NSW\, 2230\, Australia
CATEGORIES:Club Event
ATTACH;FMTTYPE=image/jpeg:https://www.surflifesaving.com.au/wp-content/uploads/sites/2/2023/11/Screenshot-2023-11-29-090028.jpg
END:VEVENT
END:VCALENDAR