BEGIN:VCALENDAR
VERSION:2.0
PRODID:-//Surf Life Saving NSW - ECPv6.15.20//NONSGML v1.0//EN
CALSCALE:GREGORIAN
METHOD:PUBLISH
X-WR-CALNAME:Surf Life Saving NSW
X-ORIGINAL-URL:https://www.surflifesaving.com.au
X-WR-CALDESC:Events for Surf Life Saving NSW
REFRESH-INTERVAL;VALUE=DURATION:PT1H
X-Robots-Tag:noindex
X-PUBLISHED-TTL:PT1H
BEGIN:VTIMEZONE
TZID:Australia/Sydney
BEGIN:STANDARD
TZOFFSETFROM:+1100
TZOFFSETTO:+1000
TZNAME:AEST
DTSTART:20240406T160000
END:STANDARD
BEGIN:DAYLIGHT
TZOFFSETFROM:+1000
TZOFFSETTO:+1100
TZNAME:AEDT
DTSTART:20241005T160000
END:DAYLIGHT
BEGIN:STANDARD
TZOFFSETFROM:+1100
TZOFFSETTO:+1000
TZNAME:AEST
DTSTART:20250405T160000
END:STANDARD
BEGIN:DAYLIGHT
TZOFFSETFROM:+1000
TZOFFSETTO:+1100
TZNAME:AEDT
DTSTART:20251004T160000
END:DAYLIGHT
BEGIN:STANDARD
TZOFFSETFROM:+1100
TZOFFSETTO:+1000
TZNAME:AEST
DTSTART:20260404T160000
END:STANDARD
BEGIN:DAYLIGHT
TZOFFSETFROM:+1000
TZOFFSETTO:+1100
TZNAME:AEDT
DTSTART:20261003T160000
END:DAYLIGHT
END:VTIMEZONE
BEGIN:VEVENT
DTSTART;VALUE=DATE:20250607
DTEND;VALUE=DATE:20250608
DTSTAMP:20260421T194848
CREATED:20250218T220745Z
LAST-MODIFIED:20250411T050955Z
UID:19692-1749254400-1749340799@www.surflifesaving.com.au
SUMMARY:Lifesaving Skills Development Program
DESCRIPTION:The SLSNSW Lifesaving Skills Development Program is open to patrolling lifesavers who are interested in developing and enhancing their lifesaving skills and experiencing a taster pathways in SLSNSW. The program will offer skill development both in the water and on the sand\, and aims to build the confidence and capability of lifesavers across the state though fun scenario-based training and hands on learning.   \nProgram Focus/Content:  \nThe Lifesaving Skills Development Program (1 day program) will focus on:  \n\nEnhancing Bronze Medallion skills (board paddling\, rescue techniques\, radio\, basic first aid) \n\n\nAwareness of advanced awards  \n\n\nFocus on non-positional leadership \n\n\nIncreasing confidence to make rescues\, and excitement and passion for surf lifesaving \n\nThe Advanced Lifesaving Skills Development Program (1.5 day program) will focus on:  \n\nEnhancing lifesaving skills (board paddling\, rescue techniques\, radio\, first aid\, advanced resuscitation\,) \n\n\nAwareness of Rescue Services pathways \n\n\nFocus on crisis leadership \n\n\nIncreasing confidence to make rescues\, and excitement and passion for surf lifesaving \n\nMore information to come. Key dates at this stage include (with more dates and locations to be announced): \n7 June – South Maroubra (SYD) \n21-22 June – Palm Beach (SNB) \n28 June – Tacking Point (MNC)
URL:https://www.surflifesaving.com.au/event/lifesaving-skills-development-program/
LOCATION:South Maroubra SLSC\, Arthur Byrne Reserve\, 1R Marine Parade\, Maroubra\, NSW\, 2035\, Australia
CATEGORIES:Lifesaving
ATTACH;FMTTYPE=image/jpeg:https://www.surflifesaving.com.au/wp-content/uploads/sites/2/2025/02/SLSA-Wanda-17960-scaled.jpg
ORGANIZER;CN="SLSNSW Lifesaving Team":MAILTO:lsdevcamp@surflifesaving.com.au
END:VEVENT
BEGIN:VEVENT
DTSTART;VALUE=DATE:20250614
DTEND;VALUE=DATE:20250616
DTSTAMP:20260421T194848
CREATED:20250212T005613Z
LAST-MODIFIED:20250611T034947Z
UID:19665-1749859200-1750031999@www.surflifesaving.com.au
SUMMARY:2025 Sharkskin NSW IRB Premiership Series
DESCRIPTION:Find all 2025 Sharkskin NSW IRB Championship info here. \nSurf Life Saving NSW is excited to confirm the dates and venues for the 2025 Sharkskin NSW IRB Premiership Series. The 2025 Series will see four rounds\, culminating with the State Championships at Cape Hawke SLSC in June. \nRound Information:\nPremiership Round 1: Ocean Beach SLSC\, 3-4 May 2025\nPremiership Round 2: Fingal Beach SLSC\, 17-18 May 2025\nPremiership Round 3: Avoca Beach SLSC\, 31 May – 1 June 2025\nPremiership Round 4: Warilla Barrack Point SLSC\, 14-15 June 2025
URL:https://www.surflifesaving.com.au/event/2025-sharkskin-nsw-irb-premiership-series/
LOCATION:Warilla Barrack Point SLSC\, 7b Osborne Parade\, Warilla\, NSW\, 2528\, Australia
CATEGORIES:IRBs
ATTACH;FMTTYPE=image/jpeg:https://www.surflifesaving.com.au/wp-content/uploads/sites/2/2025/02/READ.jpg
ORGANIZER;CN="SLSNSW Surf Sports Team":MAILTO:surfsports@surflifesaving.com.au
END:VEVENT
BEGIN:VEVENT
DTSTART;VALUE=DATE:20250621
DTEND;VALUE=DATE:20250623
DTSTAMP:20260421T194848
CREATED:20250417T041850Z
LAST-MODIFIED:20250703T045338Z
UID:19934-1750464000-1750636799@www.surflifesaving.com.au
SUMMARY:2025 NSW Pool Lifesaving Championships
DESCRIPTION:The 2025 NSW Pool Lifesaving Championships will be co-hosted by Surf Life Saving NSW and Royal Life Saving NSW\, uniting athletes from across the state for a weekend of racing and skill-based events. Held at the Murray Rose Aquatic & Fitness Centre on Saturday 21 and Sunday 22 June. \n 
URL:https://www.surflifesaving.com.au/event/2025-nsw-pool-lifesaving-championships/
LOCATION:Cranbrook School Aquatic Centre\, New South Head Rd at\, Wunulla Rd\, Point Piper\, NSW\, 2027\, Australia
CATEGORIES:Sport
ATTACH;FMTTYPE=image/jpeg:https://www.surflifesaving.com.au/wp-content/uploads/sites/2/2025/04/240615_PoolLifesaving-3.jpg
ORGANIZER;CN="SLSNSW Surf Sports Team":MAILTO:surfsports@surflifesaving.com.au
END:VEVENT
BEGIN:VEVENT
DTSTART;VALUE=DATE:20250627
DTEND;VALUE=DATE:20250630
DTSTAMP:20260421T194848
CREATED:20250212T010724Z
LAST-MODIFIED:20250708T020933Z
UID:19667-1750982400-1751241599@www.surflifesaving.com.au
SUMMARY:2025 Sharkskin NSW IRB Championships
DESCRIPTION:The 2025 Sharkskin NSW IRB Championships will take place across three epic days of racing at Cape Hawke SLSC.
URL:https://www.surflifesaving.com.au/event/2025-sharkskin-nsw-irb-championships/
LOCATION:Cape Hawke SLSC\, Palmgrove Pl\, Foster\, NSW\, 2428\, Australia
CATEGORIES:IRBs
ATTACH;FMTTYPE=image/jpeg:https://www.surflifesaving.com.au/wp-content/uploads/sites/2/2025/02/DSC_4220-scaled.jpg
ORGANIZER;CN="SLSNSW Surf Sports Team":MAILTO:surfsports@surflifesaving.com.au
END:VEVENT
END:VCALENDAR